BEGIN:VCALENDAR
VERSION:2.0
PRODID:-//Collín - hidrocentro - ECPv5.5.0.1//NONSGML v1.0//EN
CALSCALE:GREGORIAN
METHOD:PUBLISH
X-WR-CALNAME:Collín - hidrocentro
X-ORIGINAL-URL:https://www.hidrocentro.cl/collin
X-WR-CALDESC:Eventos para Collín - hidrocentro
BEGIN:VTIMEZONE
TZID:UTC
BEGIN:STANDARD
TZOFFSETFROM:+0000
TZOFFSETTO:+0000
TZNAME:UTC
DTSTART:20210101T000000
END:STANDARD
END:VTIMEZONE
BEGIN:VEVENT
DTSTART;TZID=UTC:20210312T093000
DTEND;TZID=UTC:20210312T173000
DTSTAMP:20260424T121857
CREATED:20210304T223843Z
LAST-MODIFIED:20210304T223843Z
UID:8479-1615541400-1615570200@www.hidrocentro.cl
SUMMARY:Cabrero - Monte Águila - Yumbel - Yumbel Estación
DESCRIPTION:
URL:https://www.hidrocentro.cl/collin/despacho/cabrero-monte-aguila-yumbel-yumbel-estacion/
END:VEVENT
END:VCALENDAR