BEGIN:VCALENDAR
VERSION:2.0
PRODID:-//Collín - hidrocentro - ECPv5.5.0.1//NONSGML v1.0//EN
CALSCALE:GREGORIAN
METHOD:PUBLISH
X-WR-CALNAME:Collín - hidrocentro
X-ORIGINAL-URL:https://www.hidrocentro.cl/collin
X-WR-CALDESC:Eventos para Collín - hidrocentro
BEGIN:VTIMEZONE
TZID:UTC
BEGIN:STANDARD
TZOFFSETFROM:+0000
TZOFFSETTO:+0000
TZNAME:UTC
DTSTART:20210101T000000
END:STANDARD
END:VTIMEZONE
BEGIN:VEVENT
DTSTART;TZID=UTC:20210308T093000
DTEND;TZID=UTC:20210308T173000
DTSTAMP:20260424T120923
CREATED:20210213T155938Z
LAST-MODIFIED:20210304T221714Z
UID:8361-1615195800-1615224600@www.hidrocentro.cl
SUMMARY:San Carlos - San Fabian
DESCRIPTION:
URL:https://www.hidrocentro.cl/collin/despacho/despacho-chillan-centro/
END:VEVENT
END:VCALENDAR