BEGIN:VCALENDAR
VERSION:2.0
PRODID:-//Collín - hidrocentro - ECPv5.5.0.1//NONSGML v1.0//EN
CALSCALE:GREGORIAN
METHOD:PUBLISH
X-WR-CALNAME:Collín - hidrocentro
X-ORIGINAL-URL:https://www.hidrocentro.cl/collin
X-WR-CALDESC:Eventos para Collín - hidrocentro
BEGIN:VTIMEZONE
TZID:UTC
BEGIN:STANDARD
TZOFFSETFROM:+0000
TZOFFSETTO:+0000
TZNAME:UTC
DTSTART:20210101T000000
END:STANDARD
END:VTIMEZONE
BEGIN:VEVENT
DTSTART;TZID=UTC:20210317T093000
DTEND;TZID=UTC:20210317T173000
DTSTAMP:20260424T122441
CREATED:20210304T223234Z
LAST-MODIFIED:20210304T223234Z
UID:8461-1615973400-1616002200@www.hidrocentro.cl
SUMMARY:Ñipas - Coelemu - Trehuaco - Quirihue - Ninhue - San Nicolas Portezuelo
DESCRIPTION:
URL:https://www.hidrocentro.cl/collin/despacho/nipas-coelemu-trehuaco-quirihue-ninhue-san-nicolas-portezuelo-2/
END:VEVENT
END:VCALENDAR