BEGIN:VCALENDAR
VERSION:2.0
PRODID:-//Collín - hidrocentro - ECPv5.5.0.1//NONSGML v1.0//EN
CALSCALE:GREGORIAN
METHOD:PUBLISH
X-WR-CALNAME:Collín - hidrocentro
X-ORIGINAL-URL:https://www.hidrocentro.cl/collin
X-WR-CALDESC:Eventos para Collín - hidrocentro
BEGIN:VTIMEZONE
TZID:UTC
BEGIN:STANDARD
TZOFFSETFROM:+0000
TZOFFSETTO:+0000
TZNAME:UTC
DTSTART:20210101T000000
END:STANDARD
END:VTIMEZONE
BEGIN:VEVENT
DTSTART;TZID=UTC:20210301T093000
DTEND;TZID=UTC:20210301T173000
DTSTAMP:20260424T104707
CREATED:20210304T222446Z
LAST-MODIFIED:20210304T222446Z
UID:8445-1614591000-1614619800@www.hidrocentro.cl
SUMMARY:Parral - Catillo - Retiro - Cauquenes - Longaví
DESCRIPTION:
URL:https://www.hidrocentro.cl/collin/despacho/parral-catillo-retiro-cauquenes-longavi-3/
END:VEVENT
BEGIN:VEVENT
DTSTART;TZID=UTC:20210302T093000
DTEND;TZID=UTC:20210302T173000
DTSTAMP:20260424T104707
CREATED:20210304T222530Z
LAST-MODIFIED:20210304T222530Z
UID:8447-1614677400-1614706200@www.hidrocentro.cl
SUMMARY:Chillán
DESCRIPTION:
URL:https://www.hidrocentro.cl/collin/despacho/chillan/
END:VEVENT
BEGIN:VEVENT
DTSTART;TZID=UTC:20210303T093000
DTEND;TZID=UTC:20210303T173000
DTSTAMP:20260424T104707
CREATED:20210304T223200Z
LAST-MODIFIED:20210304T223200Z
UID:8457-1614763800-1614792600@www.hidrocentro.cl
SUMMARY:Ñipas - Coelemu - Trehuaco - Quirihue - Ninhue - San Nicolas Portezuelo
DESCRIPTION:
URL:https://www.hidrocentro.cl/collin/despacho/nipas-coelemu-trehuaco-quirihue-ninhue-san-nicolas-portezuelo/
END:VEVENT
BEGIN:VEVENT
DTSTART;TZID=UTC:20210304T093000
DTEND;TZID=UTC:20210304T173000
DTSTAMP:20260424T104707
CREATED:20210304T223400Z
LAST-MODIFIED:20210304T223400Z
UID:8467-1614850200-1614879000@www.hidrocentro.cl
SUMMARY:Chillán
DESCRIPTION:
URL:https://www.hidrocentro.cl/collin/despacho/chillan-6/
END:VEVENT
BEGIN:VEVENT
DTSTART;TZID=UTC:20210305T093000
DTEND;TZID=UTC:20210305T173000
DTSTAMP:20260424T104707
CREATED:20210304T223746Z
LAST-MODIFIED:20210304T223746Z
UID:8477-1614936600-1614965400@www.hidrocentro.cl
SUMMARY:Pinto - Coihueco - Los Lleuques
DESCRIPTION:
URL:https://www.hidrocentro.cl/collin/despacho/pinto-coihueco-los-lleuques/
END:VEVENT
BEGIN:VEVENT
DTSTART;TZID=UTC:20210308T093000
DTEND;TZID=UTC:20210308T173000
DTSTAMP:20260424T104707
CREATED:20210213T155938Z
LAST-MODIFIED:20210304T221714Z
UID:8361-1615195800-1615224600@www.hidrocentro.cl
SUMMARY:San Carlos - San Fabian
DESCRIPTION:
URL:https://www.hidrocentro.cl/collin/despacho/despacho-chillan-centro/
END:VEVENT
BEGIN:VEVENT
DTSTART;TZID=UTC:20210309T093000
DTEND;TZID=UTC:20210309T173000
DTSTAMP:20260424T104707
CREATED:20210304T222634Z
LAST-MODIFIED:20210304T222634Z
UID:8449-1615282200-1615311000@www.hidrocentro.cl
SUMMARY:Chillán
DESCRIPTION:
URL:https://www.hidrocentro.cl/collin/despacho/chillan-2/
END:VEVENT
BEGIN:VEVENT
DTSTART;TZID=UTC:20210310T093000
DTEND;TZID=UTC:20210310T173000
DTSTAMP:20260424T104707
CREATED:20210304T223219Z
LAST-MODIFIED:20210304T223219Z
UID:8459-1615368600-1615397400@www.hidrocentro.cl
SUMMARY:Yungay - Pemuco - El Carmen - Pueblo Seco - San Ignacio - Bulnes - Quillon
DESCRIPTION:
URL:https://www.hidrocentro.cl/collin/despacho/yungay-pemuco-el-carmen-pueblo-seco-san-ignacio-bulnes-quillon/
END:VEVENT
BEGIN:VEVENT
DTSTART;TZID=UTC:20210311T093000
DTEND;TZID=UTC:20210311T173000
DTSTAMP:20260424T104707
CREATED:20210304T223435Z
LAST-MODIFIED:20210304T223435Z
UID:8469-1615455000-1615483800@www.hidrocentro.cl
SUMMARY:Chillán
DESCRIPTION:
URL:https://www.hidrocentro.cl/collin/despacho/chillan-7/
END:VEVENT
BEGIN:VEVENT
DTSTART;TZID=UTC:20210312T093000
DTEND;TZID=UTC:20210312T173000
DTSTAMP:20260424T104707
CREATED:20210304T223843Z
LAST-MODIFIED:20210304T223843Z
UID:8479-1615541400-1615570200@www.hidrocentro.cl
SUMMARY:Cabrero - Monte Águila - Yumbel - Yumbel Estación
DESCRIPTION:
URL:https://www.hidrocentro.cl/collin/despacho/cabrero-monte-aguila-yumbel-yumbel-estacion/
END:VEVENT
BEGIN:VEVENT
DTSTART;TZID=UTC:20210317T093000
DTEND;TZID=UTC:20210317T173000
DTSTAMP:20260424T104707
CREATED:20210304T223234Z
LAST-MODIFIED:20210304T223234Z
UID:8461-1615973400-1616002200@www.hidrocentro.cl
SUMMARY:Ñipas - Coelemu - Trehuaco - Quirihue - Ninhue - San Nicolas Portezuelo
DESCRIPTION:
URL:https://www.hidrocentro.cl/collin/despacho/nipas-coelemu-trehuaco-quirihue-ninhue-san-nicolas-portezuelo-2/
END:VEVENT
BEGIN:VEVENT
DTSTART;TZID=UTC:20210318T093000
DTEND;TZID=UTC:20210318T173000
DTSTAMP:20260424T104707
CREATED:20210304T223501Z
LAST-MODIFIED:20210304T223501Z
UID:8471-1616059800-1616088600@www.hidrocentro.cl
SUMMARY:Chillán
DESCRIPTION:
URL:https://www.hidrocentro.cl/collin/despacho/chillan-8/
END:VEVENT
BEGIN:VEVENT
DTSTART;TZID=UTC:20210319T093000
DTEND;TZID=UTC:20210319T173000
DTSTAMP:20260424T104707
CREATED:20210304T223906Z
LAST-MODIFIED:20210304T223906Z
UID:8481-1616146200-1616175000@www.hidrocentro.cl
SUMMARY:Pinto - Coihueco - Los Lleuques
DESCRIPTION:
URL:https://www.hidrocentro.cl/collin/despacho/pinto-coihueco-los-lleuques-2/
END:VEVENT
BEGIN:VEVENT
DTSTART;TZID=UTC:20210322T093000
DTEND;TZID=UTC:20210322T173000
DTSTAMP:20260424T104707
CREATED:20210304T222249Z
LAST-MODIFIED:20210304T222249Z
UID:8441-1616405400-1616434200@www.hidrocentro.cl
SUMMARY:San Carlos - San Fabian
DESCRIPTION:
URL:https://www.hidrocentro.cl/collin/despacho/san-carlos-san-fabian/
END:VEVENT
BEGIN:VEVENT
DTSTART;TZID=UTC:20210323T093000
DTEND;TZID=UTC:20210323T173000
DTSTAMP:20260424T104707
CREATED:20210304T222731Z
LAST-MODIFIED:20210304T222731Z
UID:8453-1616491800-1616520600@www.hidrocentro.cl
SUMMARY:Chillán
DESCRIPTION:
URL:https://www.hidrocentro.cl/collin/despacho/chillan-4/
END:VEVENT
BEGIN:VEVENT
DTSTART;TZID=UTC:20210324T093000
DTEND;TZID=UTC:20210324T173000
DTSTAMP:20260424T104707
CREATED:20210304T223255Z
LAST-MODIFIED:20210304T223255Z
UID:8463-1616578200-1616607000@www.hidrocentro.cl
SUMMARY:Yungay - Pemuco - El Carmen - Pueblo Seco - San Ignacio - Bulnes - Quillon
DESCRIPTION:
URL:https://www.hidrocentro.cl/collin/despacho/yungay-pemuco-el-carmen-pueblo-seco-san-ignacio-bulnes-quillon-2/
END:VEVENT
BEGIN:VEVENT
DTSTART;TZID=UTC:20210325T093000
DTEND;TZID=UTC:20210325T173000
DTSTAMP:20260424T104707
CREATED:20210304T223524Z
LAST-MODIFIED:20210304T223524Z
UID:8473-1616664600-1616693400@www.hidrocentro.cl
SUMMARY:Chillán
DESCRIPTION:
URL:https://www.hidrocentro.cl/collin/despacho/chillan-9/
END:VEVENT
BEGIN:VEVENT
DTSTART;TZID=UTC:20210326T093000
DTEND;TZID=UTC:20210326T173000
DTSTAMP:20260424T104707
CREATED:20210304T223924Z
LAST-MODIFIED:20210304T223924Z
UID:8483-1616751000-1616779800@www.hidrocentro.cl
SUMMARY:Cabrero - Monte Águila - Yumbel - Yumbel Estación
DESCRIPTION:
URL:https://www.hidrocentro.cl/collin/despacho/cabrero-monte-aguila-yumbel-yumbel-estacion-2/
END:VEVENT
BEGIN:VEVENT
DTSTART;TZID=UTC:20210329T093000
DTEND;TZID=UTC:20210329T173000
DTSTAMP:20260424T104707
CREATED:20210304T222359Z
LAST-MODIFIED:20210304T222359Z
UID:8443-1617010200-1617039000@www.hidrocentro.cl
SUMMARY:Parral - Catillo - Retiro - Cauquenes - Longaví
DESCRIPTION:
URL:https://www.hidrocentro.cl/collin/despacho/parral-catillo-retiro-cauquenes-longavi-2/
END:VEVENT
BEGIN:VEVENT
DTSTART;TZID=UTC:20210330T093000
DTEND;TZID=UTC:20210330T173000
DTSTAMP:20260424T104707
CREATED:20210304T222816Z
LAST-MODIFIED:20210304T222816Z
UID:8455-1617096600-1617125400@www.hidrocentro.cl
SUMMARY:Chillán
DESCRIPTION:
URL:https://www.hidrocentro.cl/collin/despacho/chillan-5/
END:VEVENT
BEGIN:VEVENT
DTSTART;TZID=UTC:20210331T093000
DTEND;TZID=UTC:20210331T173000
DTSTAMP:20260424T104707
CREATED:20210304T223327Z
LAST-MODIFIED:20210304T223327Z
UID:8465-1617183000-1617211800@www.hidrocentro.cl
SUMMARY:Ñipas - Coelemu - Trehuaco - Quirihue - Ninhue - San Nicolas Portezuelo
DESCRIPTION:
URL:https://www.hidrocentro.cl/collin/despacho/nipas-coelemu-trehuaco-quirihue-ninhue-san-nicolas-portezuelo-3/
END:VEVENT
BEGIN:VEVENT
DTSTART;TZID=UTC:20210401T093000
DTEND;TZID=UTC:20210401T173000
DTSTAMP:20260424T104707
CREATED:20210304T223544Z
LAST-MODIFIED:20210304T223544Z
UID:8475-1617269400-1617298200@www.hidrocentro.cl
SUMMARY:Chillán
DESCRIPTION:
URL:https://www.hidrocentro.cl/collin/despacho/chillan-10/
END:VEVENT
BEGIN:VEVENT
DTSTART;TZID=UTC:20210402T093000
DTEND;TZID=UTC:20210402T173000
DTSTAMP:20260424T104707
CREATED:20210304T223943Z
LAST-MODIFIED:20210304T223943Z
UID:8485-1617355800-1617384600@www.hidrocentro.cl
SUMMARY:Pinto - Coihueco - Los Lleuques
DESCRIPTION:
URL:https://www.hidrocentro.cl/collin/despacho/pinto-coihueco-los-lleuques-3/
END:VEVENT
END:VCALENDAR