BEGIN:VCALENDAR
VERSION:2.0
PRODID:-//Collín - hidrocentro - ECPv5.5.0.1//NONSGML v1.0//EN
CALSCALE:GREGORIAN
METHOD:PUBLISH
X-WR-CALNAME:Collín - hidrocentro
X-ORIGINAL-URL:https://www.hidrocentro.cl/collin
X-WR-CALDESC:Eventos para Collín - hidrocentro
BEGIN:VTIMEZONE
TZID:America/Santiago
BEGIN:STANDARD
TZOFFSETFROM:-0300
TZOFFSETTO:-0400
TZNAME:-04
DTSTART:20210404T030000
END:STANDARD
BEGIN:DAYLIGHT
TZOFFSETFROM:-0400
TZOFFSETTO:-0300
TZNAME:-03
DTSTART:20210905T040000
END:DAYLIGHT
END:VTIMEZONE
BEGIN:VEVENT
DTSTART;TZID=America/Santiago:20210531T080000
DTEND;TZID=America/Santiago:20210531T170000
DTSTAMP:20260424T060925
CREATED:20210513T195420Z
LAST-MODIFIED:20210513T195425Z
UID:13237-1622448000-1622480400@www.hidrocentro.cl
SUMMARY:San Carlos – San Fabian
DESCRIPTION:
URL:https://www.hidrocentro.cl/collin/despacho/san-carlos-san-fabian-5/
END:VEVENT
BEGIN:VEVENT
DTSTART;TZID=America/Santiago:20210601T080000
DTEND;TZID=America/Santiago:20210601T170000
DTSTAMP:20260424T060925
CREATED:20210513T195455Z
LAST-MODIFIED:20210513T195459Z
UID:13239-1622534400-1622566800@www.hidrocentro.cl
SUMMARY:Chillán
DESCRIPTION:
URL:https://www.hidrocentro.cl/collin/despacho/chillan-23/
END:VEVENT
BEGIN:VEVENT
DTSTART;TZID=America/Santiago:20210602T080000
DTEND;TZID=America/Santiago:20210602T170000
DTSTAMP:20260424T060925
CREATED:20210513T195603Z
LAST-MODIFIED:20210513T195607Z
UID:13241-1622620800-1622653200@www.hidrocentro.cl
SUMMARY:Yungay – Pemuco – El Carmen – Pueblo Seco – San Ignacio – Bulnes – Quillon
DESCRIPTION:
URL:https://www.hidrocentro.cl/collin/despacho/yungay-pemuco-el-carmen-pueblo-seco-san-ignacio-bulnes-quillon-6/
END:VEVENT
BEGIN:VEVENT
DTSTART;TZID=America/Santiago:20210603T080000
DTEND;TZID=America/Santiago:20210603T170000
DTSTAMP:20260424T060925
CREATED:20210513T195634Z
LAST-MODIFIED:20210513T195637Z
UID:13243-1622707200-1622739600@www.hidrocentro.cl
SUMMARY:Chillán
DESCRIPTION:
URL:https://www.hidrocentro.cl/collin/despacho/chillan-24/
END:VEVENT
BEGIN:VEVENT
DTSTART;TZID=America/Santiago:20210604T080000
DTEND;TZID=America/Santiago:20210604T170000
DTSTAMP:20260424T060925
CREATED:20210513T195708Z
LAST-MODIFIED:20210513T195722Z
UID:13245-1622793600-1622826000@www.hidrocentro.cl
SUMMARY:Cabrero – Monte Águila – Yumbel – Yumbel Estación
DESCRIPTION:
URL:https://www.hidrocentro.cl/collin/despacho/cabrero-monte-aguila-yumbel-yumbel-estacion-6/
END:VEVENT
BEGIN:VEVENT
DTSTART;TZID=America/Santiago:20210607T080000
DTEND;TZID=America/Santiago:20210607T170000
DTSTAMP:20260424T060925
CREATED:20210513T200012Z
LAST-MODIFIED:20210513T200017Z
UID:13247-1623052800-1623085200@www.hidrocentro.cl
SUMMARY:Parral – Catillo – Retiro – Cauquenes – Longaví
DESCRIPTION:
URL:https://www.hidrocentro.cl/collin/despacho/parral-catillo-retiro-cauquenes-longavi-7/
END:VEVENT
BEGIN:VEVENT
DTSTART;TZID=America/Santiago:20210608T080000
DTEND;TZID=America/Santiago:20210608T170000
DTSTAMP:20260424T060925
CREATED:20210513T200051Z
LAST-MODIFIED:20210513T200055Z
UID:13249-1623139200-1623171600@www.hidrocentro.cl
SUMMARY:Chillán
DESCRIPTION:
URL:https://www.hidrocentro.cl/collin/despacho/chillan-25/
END:VEVENT
BEGIN:VEVENT
DTSTART;TZID=America/Santiago:20210609T080000
DTEND;TZID=America/Santiago:20210609T170000
DTSTAMP:20260424T060925
CREATED:20210513T200128Z
LAST-MODIFIED:20210513T200133Z
UID:13251-1623225600-1623258000@www.hidrocentro.cl
SUMMARY:Ñipas – Coelemu – Trehuaco – Quirihue – Ninhue – San Nicolas Portezuelo
DESCRIPTION:
URL:https://www.hidrocentro.cl/collin/despacho/nipas-coelemu-trehuaco-quirihue-ninhue-san-nicolas-portezuelo-8/
END:VEVENT
BEGIN:VEVENT
DTSTART;TZID=America/Santiago:20210610T080000
DTEND;TZID=America/Santiago:20210610T170000
DTSTAMP:20260424T060925
CREATED:20210513T200206Z
LAST-MODIFIED:20210513T200209Z
UID:13253-1623312000-1623344400@www.hidrocentro.cl
SUMMARY:Chillán
DESCRIPTION:
URL:https://www.hidrocentro.cl/collin/despacho/chillan-26/
END:VEVENT
BEGIN:VEVENT
DTSTART;TZID=America/Santiago:20210611T080000
DTEND;TZID=America/Santiago:20210611T170000
DTSTAMP:20260424T060925
CREATED:20210513T200308Z
LAST-MODIFIED:20210513T200312Z
UID:13255-1623398400-1623430800@www.hidrocentro.cl
SUMMARY:Pinto – Coihueco – Los Lleuques
DESCRIPTION:
URL:https://www.hidrocentro.cl/collin/despacho/pinto-coihueco-los-lleuques-8/
END:VEVENT
BEGIN:VEVENT
DTSTART;TZID=America/Santiago:20210614T080000
DTEND;TZID=America/Santiago:20210614T170000
DTSTAMP:20260424T060925
CREATED:20210513T201313Z
LAST-MODIFIED:20210513T201317Z
UID:13257-1623657600-1623690000@www.hidrocentro.cl
SUMMARY:San Carlos – San Fabian
DESCRIPTION:
URL:https://www.hidrocentro.cl/collin/despacho/san-carlos-san-fabian-6/
END:VEVENT
BEGIN:VEVENT
DTSTART;TZID=America/Santiago:20210616T080000
DTEND;TZID=America/Santiago:20210616T170000
DTSTAMP:20260424T060925
CREATED:20210513T201447Z
LAST-MODIFIED:20210513T201501Z
UID:13261-1623830400-1623862800@www.hidrocentro.cl
SUMMARY:Yungay – Pemuco – El Carmen – Pueblo Seco – San Ignacio – Bulnes – Quillon
DESCRIPTION:
URL:https://www.hidrocentro.cl/collin/despacho/yungay-pemuco-el-carmen-pueblo-seco-san-ignacio-bulnes-quillon-7/
END:VEVENT
BEGIN:VEVENT
DTSTART;TZID=America/Santiago:20210617T080000
DTEND;TZID=America/Santiago:20210617T170000
DTSTAMP:20260424T060925
CREATED:20210513T201523Z
LAST-MODIFIED:20210513T201529Z
UID:13263-1623916800-1623949200@www.hidrocentro.cl
SUMMARY:Chillán
DESCRIPTION:
URL:https://www.hidrocentro.cl/collin/despacho/chillan-28/
END:VEVENT
BEGIN:VEVENT
DTSTART;TZID=America/Santiago:20210618T080000
DTEND;TZID=America/Santiago:20210618T170000
DTSTAMP:20260424T060925
CREATED:20210513T201601Z
LAST-MODIFIED:20210513T201611Z
UID:13265-1624003200-1624035600@www.hidrocentro.cl
SUMMARY:Cabrero – Monte Águila – Yumbel – Yumbel Estación
DESCRIPTION:
URL:https://www.hidrocentro.cl/collin/despacho/cabrero-monte-aguila-yumbel-yumbel-estacion-7/
END:VEVENT
BEGIN:VEVENT
DTSTART;TZID=America/Santiago:20210621T080000
DTEND;TZID=America/Santiago:20210621T170000
DTSTAMP:20260424T060925
CREATED:20210513T201648Z
LAST-MODIFIED:20210513T201653Z
UID:13267-1624262400-1624294800@www.hidrocentro.cl
SUMMARY:Parral – Catillo – Retiro – Cauquenes – Longaví
DESCRIPTION:
URL:https://www.hidrocentro.cl/collin/despacho/parral-catillo-retiro-cauquenes-longavi-8/
END:VEVENT
BEGIN:VEVENT
DTSTART;TZID=America/Santiago:20210622T080000
DTEND;TZID=America/Santiago:20210622T170000
DTSTAMP:20260424T060925
CREATED:20210513T201717Z
LAST-MODIFIED:20210513T201720Z
UID:13269-1624348800-1624381200@www.hidrocentro.cl
SUMMARY:Chillán
DESCRIPTION:
URL:https://www.hidrocentro.cl/collin/despacho/chillan-29/
END:VEVENT
BEGIN:VEVENT
DTSTART;TZID=America/Santiago:20210623T080000
DTEND;TZID=America/Santiago:20210623T170000
DTSTAMP:20260424T060925
CREATED:20210513T201808Z
LAST-MODIFIED:20210513T201825Z
UID:13271-1624435200-1624467600@www.hidrocentro.cl
SUMMARY:Ñipas – Coelemu – Trehuaco – Quirihue – Ninhue – San Nicolas Portezuelo
DESCRIPTION:
URL:https://www.hidrocentro.cl/collin/despacho/nipas-coelemu-trehuaco-quirihue-ninhue-san-nicolas-portezuelo-9/
END:VEVENT
BEGIN:VEVENT
DTSTART;TZID=America/Santiago:20210624T080000
DTEND;TZID=America/Santiago:20210624T170000
DTSTAMP:20260424T060925
CREATED:20210513T201853Z
LAST-MODIFIED:20210513T201857Z
UID:13273-1624521600-1624554000@www.hidrocentro.cl
SUMMARY:Chillán
DESCRIPTION:
URL:https://www.hidrocentro.cl/collin/despacho/chillan-30/
END:VEVENT
BEGIN:VEVENT
DTSTART;TZID=America/Santiago:20210625T080000
DTEND;TZID=America/Santiago:20210625T170000
DTSTAMP:20260424T060925
CREATED:20210513T201926Z
LAST-MODIFIED:20210513T201931Z
UID:13275-1624608000-1624640400@www.hidrocentro.cl
SUMMARY:Pinto – Coihueco – Los Lleuques
DESCRIPTION:
URL:https://www.hidrocentro.cl/collin/despacho/pinto-coihueco-los-lleuques-9/
END:VEVENT
BEGIN:VEVENT
DTSTART;TZID=America/Santiago:20210629T080000
DTEND;TZID=America/Santiago:20210629T170000
DTSTAMP:20260424T060925
CREATED:20210513T202217Z
LAST-MODIFIED:20210513T202228Z
UID:13279-1624953600-1624986000@www.hidrocentro.cl
SUMMARY:Chillán
DESCRIPTION:
URL:https://www.hidrocentro.cl/collin/despacho/chillan-31/
END:VEVENT
BEGIN:VEVENT
DTSTART;TZID=America/Santiago:20210630T080000
DTEND;TZID=America/Santiago:20210630T170000
DTSTAMP:20260424T060925
CREATED:20210513T202254Z
LAST-MODIFIED:20210513T202306Z
UID:13281-1625040000-1625072400@www.hidrocentro.cl
SUMMARY:Yungay – Pemuco – El Carmen – Pueblo Seco – San Ignacio – Bulnes – Quillon
DESCRIPTION:
URL:https://www.hidrocentro.cl/collin/despacho/yungay-pemuco-el-carmen-pueblo-seco-san-ignacio-bulnes-quillon-8/
END:VEVENT
BEGIN:VEVENT
DTSTART;TZID=America/Santiago:20210701T080000
DTEND;TZID=America/Santiago:20210701T170000
DTSTAMP:20260424T060925
CREATED:20210513T202336Z
LAST-MODIFIED:20210513T202336Z
UID:13283-1625126400-1625158800@www.hidrocentro.cl
SUMMARY:Chillán
DESCRIPTION:
URL:https://www.hidrocentro.cl/collin/despacho/chillan-32/
END:VEVENT
BEGIN:VEVENT
DTSTART;TZID=America/Santiago:20210702T080000
DTEND;TZID=America/Santiago:20210702T170000
DTSTAMP:20260424T060925
CREATED:20210513T202413Z
LAST-MODIFIED:20210513T202417Z
UID:13285-1625212800-1625245200@www.hidrocentro.cl
SUMMARY:Cabrero – Monte Águila – Yumbel – Yumbel Estación
DESCRIPTION:
URL:https://www.hidrocentro.cl/collin/despacho/cabrero-monte-aguila-yumbel-yumbel-estacion-8/
END:VEVENT
END:VCALENDAR