BEGIN:VCALENDAR
VERSION:2.0
PRODID:-//Collín - hidrocentro - ECPv5.5.0.1//NONSGML v1.0//EN
CALSCALE:GREGORIAN
METHOD:PUBLISH
X-WR-CALNAME:Collín - hidrocentro
X-ORIGINAL-URL:https://www.hidrocentro.cl/collin
X-WR-CALDESC:Eventos para Collín - hidrocentro
BEGIN:VTIMEZONE
TZID:America/Santiago
BEGIN:STANDARD
TZOFFSETFROM:-0300
TZOFFSETTO:-0400
TZNAME:-04
DTSTART:20210404T030000
END:STANDARD
BEGIN:DAYLIGHT
TZOFFSETFROM:-0400
TZOFFSETTO:-0300
TZNAME:-03
DTSTART:20210905T040000
END:DAYLIGHT
END:VTIMEZONE
BEGIN:VEVENT
DTSTART;TZID=America/Santiago:20210927T080000
DTEND;TZID=America/Santiago:20210927T170000
DTSTAMP:20260424T001425
CREATED:20210827T164557Z
LAST-MODIFIED:20210827T164557Z
UID:13620-1632729600-1632762000@www.hidrocentro.cl
SUMMARY:Parral – Catillo – Retiro – Cauquenes – Longaví
DESCRIPTION:
URL:https://www.hidrocentro.cl/collin/despacho/parral-catillo-retiro-cauquenes-longavi-15/
END:VEVENT
BEGIN:VEVENT
DTSTART;TZID=America/Santiago:20210928T080000
DTEND;TZID=America/Santiago:20210928T170000
DTSTAMP:20260424T001425
CREATED:20210827T164623Z
LAST-MODIFIED:20210827T164623Z
UID:13622-1632816000-1632848400@www.hidrocentro.cl
SUMMARY:Chillán
DESCRIPTION:
URL:https://www.hidrocentro.cl/collin/despacho/chillan-56/
END:VEVENT
BEGIN:VEVENT
DTSTART;TZID=America/Santiago:20210929T080000
DTEND;TZID=America/Santiago:20210929T170000
DTSTAMP:20260424T001425
CREATED:20210827T164700Z
LAST-MODIFIED:20210827T164700Z
UID:13624-1632902400-1632934800@www.hidrocentro.cl
SUMMARY:Ñipas – Coelemu – Trehuaco – Quirihue – Ninhue – San Nicolas Portezuelo
DESCRIPTION:
URL:https://www.hidrocentro.cl/collin/despacho/nipas-coelemu-trehuaco-quirihue-ninhue-san-nicolas-portezuelo-16/
END:VEVENT
BEGIN:VEVENT
DTSTART;TZID=America/Santiago:20210930T080000
DTEND;TZID=America/Santiago:20210930T170000
DTSTAMP:20260424T001425
CREATED:20210827T164852Z
LAST-MODIFIED:20210827T164852Z
UID:13626-1632988800-1633021200@www.hidrocentro.cl
SUMMARY:Chillán
DESCRIPTION:
URL:https://www.hidrocentro.cl/collin/despacho/chillan-57/
END:VEVENT
BEGIN:VEVENT
DTSTART;TZID=America/Santiago:20211001T080000
DTEND;TZID=America/Santiago:20211001T170000
DTSTAMP:20260424T001425
CREATED:20211021T152116Z
LAST-MODIFIED:20211021T152116Z
UID:13777-1633075200-1633107600@www.hidrocentro.cl
SUMMARY:Pinto – Coihueco – Los Lleuques
DESCRIPTION:
URL:https://www.hidrocentro.cl/collin/despacho/pinto-coihueco-los-lleuques-16/
END:VEVENT
BEGIN:VEVENT
DTSTART;TZID=America/Santiago:20211004T080000
DTEND;TZID=America/Santiago:20211004T170000
DTSTAMP:20260424T001425
CREATED:20211021T152225Z
LAST-MODIFIED:20211021T152234Z
UID:13779-1633334400-1633366800@www.hidrocentro.cl
SUMMARY:San Carlos – San Fabian
DESCRIPTION:
URL:https://www.hidrocentro.cl/collin/despacho/san-carlos-san-fabian-13/
END:VEVENT
BEGIN:VEVENT
DTSTART;TZID=America/Santiago:20211005T080000
DTEND;TZID=America/Santiago:20211005T170000
DTSTAMP:20260424T001425
CREATED:20211021T152312Z
LAST-MODIFIED:20211021T152312Z
UID:13781-1633420800-1633453200@www.hidrocentro.cl
SUMMARY:Chillán
DESCRIPTION:
URL:https://www.hidrocentro.cl/collin/despacho/chillan-58/
END:VEVENT
BEGIN:VEVENT
DTSTART;TZID=America/Santiago:20211007T080000
DTEND;TZID=America/Santiago:20211007T170000
DTSTAMP:20260424T001425
CREATED:20211021T152613Z
LAST-MODIFIED:20211021T152624Z
UID:13785-1633593600-1633626000@www.hidrocentro.cl
SUMMARY:Chillán
DESCRIPTION:
URL:https://www.hidrocentro.cl/collin/despacho/chillan-59/
END:VEVENT
BEGIN:VEVENT
DTSTART;TZID=America/Santiago:20211008T080000
DTEND;TZID=America/Santiago:20211008T170000
DTSTAMP:20260424T001425
CREATED:20211021T152701Z
LAST-MODIFIED:20211021T152707Z
UID:13787-1633680000-1633712400@www.hidrocentro.cl
SUMMARY:Cobquecura
DESCRIPTION:
URL:https://www.hidrocentro.cl/collin/despacho/cobquecura-3/
END:VEVENT
BEGIN:VEVENT
DTSTART;TZID=America/Santiago:20211011T080000
DTEND;TZID=America/Santiago:20211011T170000
DTSTAMP:20260424T001425
CREATED:20211021T152910Z
LAST-MODIFIED:20211021T152910Z
UID:13789-1633939200-1633971600@www.hidrocentro.cl
SUMMARY:Parral – Catillo – Retiro – Cauquenes – Longaví
DESCRIPTION:
URL:https://www.hidrocentro.cl/collin/despacho/parral-catillo-retiro-cauquenes-longavi-16/
END:VEVENT
BEGIN:VEVENT
DTSTART;TZID=America/Santiago:20211012T080000
DTEND;TZID=America/Santiago:20211012T170000
DTSTAMP:20260424T001425
CREATED:20211021T152951Z
LAST-MODIFIED:20211021T152951Z
UID:13791-1634025600-1634058000@www.hidrocentro.cl
SUMMARY:Chillán
DESCRIPTION:
URL:https://www.hidrocentro.cl/collin/despacho/chillan-60/
END:VEVENT
BEGIN:VEVENT
DTSTART;TZID=America/Santiago:20211013T080000
DTEND;TZID=America/Santiago:20211013T170000
DTSTAMP:20260424T001425
CREATED:20211021T153042Z
LAST-MODIFIED:20211021T153042Z
UID:13793-1634112000-1634144400@www.hidrocentro.cl
SUMMARY:Ñipas – Coelemu – Trehuaco – Quirihue – Ninhue – San Nicolas- Portezuelo
DESCRIPTION:
URL:https://www.hidrocentro.cl/collin/despacho/nipas-coelemu-trehuaco-quirihue-ninhue-san-nicolas-portezuelo-17/
END:VEVENT
BEGIN:VEVENT
DTSTART;TZID=America/Santiago:20211014T080000
DTEND;TZID=America/Santiago:20211014T170000
DTSTAMP:20260424T001425
CREATED:20211021T153111Z
LAST-MODIFIED:20211021T153120Z
UID:13795-1634198400-1634230800@www.hidrocentro.cl
SUMMARY:Chillán
DESCRIPTION:
URL:https://www.hidrocentro.cl/collin/despacho/chillan-61/
END:VEVENT
BEGIN:VEVENT
DTSTART;TZID=America/Santiago:20211018T080000
DTEND;TZID=America/Santiago:20211018T170000
DTSTAMP:20260424T001425
CREATED:20211021T162434Z
LAST-MODIFIED:20211021T162434Z
UID:13800-1634544000-1634576400@www.hidrocentro.cl
SUMMARY:San Carlos – San Fabian
DESCRIPTION:
URL:https://www.hidrocentro.cl/collin/despacho/san-carlos-san-fabian-14/
END:VEVENT
BEGIN:VEVENT
DTSTART;TZID=America/Santiago:20211020T080000
DTEND;TZID=America/Santiago:20211020T170000
DTSTAMP:20260424T001425
CREATED:20211021T152539Z
LAST-MODIFIED:20211021T162737Z
UID:13783-1634716800-1634749200@www.hidrocentro.cl
SUMMARY:Pemuco – El Carmen – Pueblo Seco – San Ignacio – Bulnes – Quillon
DESCRIPTION:
URL:https://www.hidrocentro.cl/collin/despacho/pemuco-el-carmen-pueblo-seco-san-ignacio-bulnes-quillon-3/
END:VEVENT
BEGIN:VEVENT
DTSTART;TZID=America/Santiago:20211021T080000
DTEND;TZID=America/Santiago:20211021T170000
DTSTAMP:20260424T001425
CREATED:20211021T162513Z
LAST-MODIFIED:20211021T162817Z
UID:13802-1634803200-1634835600@www.hidrocentro.cl
SUMMARY:Chillán
DESCRIPTION:
URL:https://www.hidrocentro.cl/collin/despacho/chillan-62/
END:VEVENT
BEGIN:VEVENT
DTSTART;TZID=America/Santiago:20211022T080000
DTEND;TZID=America/Santiago:20211022T170000
DTSTAMP:20260424T001425
CREATED:20210827T164524Z
LAST-MODIFIED:20211021T162918Z
UID:13618-1634889600-1634922000@www.hidrocentro.cl
SUMMARY:Cobquecura
DESCRIPTION:
URL:https://www.hidrocentro.cl/collin/despacho/cobquecura-2/
END:VEVENT
BEGIN:VEVENT
DTSTART;TZID=America/Santiago:20211025T080000
DTEND;TZID=America/Santiago:20211025T170000
DTSTAMP:20260424T001425
CREATED:20211028T152315Z
LAST-MODIFIED:20211028T152315Z
UID:13825-1635148800-1635181200@www.hidrocentro.cl
SUMMARY:Parral – Catillo – Retiro – Cauquenes – Longaví
DESCRIPTION:
URL:https://www.hidrocentro.cl/collin/despacho/parral-catillo-retiro-cauquenes-longavi-17/
END:VEVENT
BEGIN:VEVENT
DTSTART;TZID=America/Santiago:20211026T080000
DTEND;TZID=America/Santiago:20211026T170000
DTSTAMP:20260424T001425
CREATED:20211028T152602Z
LAST-MODIFIED:20211028T152607Z
UID:13831-1635235200-1635267600@www.hidrocentro.cl
SUMMARY:Chillán
DESCRIPTION:
URL:https://www.hidrocentro.cl/collin/despacho/chillan-64/
END:VEVENT
BEGIN:VEVENT
DTSTART;TZID=America/Santiago:20211027T080000
DTEND;TZID=America/Santiago:20211027T170000
DTSTAMP:20260424T001425
CREATED:20211028T152406Z
LAST-MODIFIED:20211028T152406Z
UID:13829-1635321600-1635354000@www.hidrocentro.cl
SUMMARY:Ñipas – Coelemu – Trehuaco – Quirihue – Ninhue – San Nicolas- Portezuelo
DESCRIPTION:
URL:https://www.hidrocentro.cl/collin/despacho/nipas-coelemu-trehuaco-quirihue-ninhue-san-nicolas-portezuelo-18/
END:VEVENT
BEGIN:VEVENT
DTSTART;TZID=America/Santiago:20211028T080000
DTEND;TZID=America/Santiago:20211028T170000
DTSTAMP:20260424T001425
CREATED:20211028T152337Z
LAST-MODIFIED:20211028T152434Z
UID:13827-1635408000-1635440400@www.hidrocentro.cl
SUMMARY:Chillán
DESCRIPTION:
URL:https://www.hidrocentro.cl/collin/despacho/chillan-63/
END:VEVENT
BEGIN:VEVENT
DTSTART;TZID=America/Santiago:20211029T080000
DTEND;TZID=America/Santiago:20211029T170000
DTSTAMP:20260424T001425
CREATED:20211021T153204Z
LAST-MODIFIED:20211028T152457Z
UID:13797-1635494400-1635526800@www.hidrocentro.cl
SUMMARY:Pinto – Coihueco – Los Lleuques
DESCRIPTION:
URL:https://www.hidrocentro.cl/collin/despacho/pinto-coihueco-los-lleuques-17/
END:VEVENT
END:VCALENDAR