BEGIN:VCALENDAR
VERSION:2.0
PRODID:-//Collín - hidrocentro - ECPv5.5.0.1//NONSGML v1.0//EN
CALSCALE:GREGORIAN
METHOD:PUBLISH
X-WR-CALNAME:Collín - hidrocentro
X-ORIGINAL-URL:https://www.hidrocentro.cl/collin
X-WR-CALDESC:Eventos para Collín - hidrocentro
BEGIN:VTIMEZONE
TZID:America/Santiago
BEGIN:STANDARD
TZOFFSETFROM:-0300
TZOFFSETTO:-0400
TZNAME:-04
DTSTART:20210404T030000
END:STANDARD
BEGIN:DAYLIGHT
TZOFFSETFROM:-0400
TZOFFSETTO:-0300
TZNAME:-03
DTSTART:20210905T040000
END:DAYLIGHT
END:VTIMEZONE
BEGIN:VEVENT
DTSTART;TZID=America/Santiago:20211101T080000
DTEND;TZID=America/Santiago:20211101T170000
DTSTAMP:20260423T222515
CREATED:20211028T152956Z
LAST-MODIFIED:20211028T153031Z
UID:13833-1635753600-1635786000@www.hidrocentro.cl
SUMMARY:San Carlos – San Fabian
DESCRIPTION:
URL:https://www.hidrocentro.cl/collin/despacho/san-carlos-san-fabian-15/
END:VEVENT
BEGIN:VEVENT
DTSTART;TZID=America/Santiago:20211102T080000
DTEND;TZID=America/Santiago:20211102T170000
DTSTAMP:20260423T222515
CREATED:20211028T155404Z
LAST-MODIFIED:20211028T155404Z
UID:13835-1635840000-1635872400@www.hidrocentro.cl
SUMMARY:Chillán
DESCRIPTION:
URL:https://www.hidrocentro.cl/collin/despacho/chillan-65/
END:VEVENT
BEGIN:VEVENT
DTSTART;TZID=America/Santiago:20211103T080000
DTEND;TZID=America/Santiago:20211103T170000
DTSTAMP:20260423T222515
CREATED:20211028T155508Z
LAST-MODIFIED:20211028T155508Z
UID:13837-1635926400-1635958800@www.hidrocentro.cl
SUMMARY:Pemuco – El Carmen – Pueblo Seco – San Ignacio – Bulnes – Quillon
DESCRIPTION:
URL:https://www.hidrocentro.cl/collin/despacho/pemuco-el-carmen-pueblo-seco-san-ignacio-bulnes-quillon-4/
END:VEVENT
BEGIN:VEVENT
DTSTART;TZID=America/Santiago:20211104T080000
DTEND;TZID=America/Santiago:20211104T170000
DTSTAMP:20260423T222515
CREATED:20211028T155535Z
LAST-MODIFIED:20211028T155535Z
UID:13839-1636012800-1636045200@www.hidrocentro.cl
SUMMARY:Chillán
DESCRIPTION:
URL:https://www.hidrocentro.cl/collin/despacho/chillan-66/
END:VEVENT
BEGIN:VEVENT
DTSTART;TZID=America/Santiago:20211105T080000
DTEND;TZID=America/Santiago:20211105T170000
DTSTAMP:20260423T222515
CREATED:20211028T155606Z
LAST-MODIFIED:20211028T155606Z
UID:13841-1636099200-1636131600@www.hidrocentro.cl
SUMMARY:Cobquecura
DESCRIPTION:
URL:https://www.hidrocentro.cl/collin/despacho/cobquecura-4/
END:VEVENT
BEGIN:VEVENT
DTSTART;TZID=America/Santiago:20211108T080000
DTEND;TZID=America/Santiago:20211108T170000
DTSTAMP:20260423T222515
CREATED:20211028T155635Z
LAST-MODIFIED:20211028T155635Z
UID:13843-1636358400-1636390800@www.hidrocentro.cl
SUMMARY:Parral – Catillo – Retiro – Cauquenes – Longaví
DESCRIPTION:
URL:https://www.hidrocentro.cl/collin/despacho/parral-catillo-retiro-cauquenes-longavi-18/
END:VEVENT
BEGIN:VEVENT
DTSTART;TZID=America/Santiago:20211109T080000
DTEND;TZID=America/Santiago:20211109T170000
DTSTAMP:20260423T222515
CREATED:20211028T155700Z
LAST-MODIFIED:20211028T155700Z
UID:13845-1636444800-1636477200@www.hidrocentro.cl
SUMMARY:Chillán
DESCRIPTION:
URL:https://www.hidrocentro.cl/collin/despacho/chillan-67/
END:VEVENT
BEGIN:VEVENT
DTSTART;TZID=America/Santiago:20211110T080000
DTEND;TZID=America/Santiago:20211110T170000
DTSTAMP:20260423T222515
CREATED:20211028T155725Z
LAST-MODIFIED:20211028T155725Z
UID:13847-1636531200-1636563600@www.hidrocentro.cl
SUMMARY:Ñipas – Coelemu – Trehuaco – Quirihue – Ninhue – San Nicolas- Portezuelo
DESCRIPTION:
URL:https://www.hidrocentro.cl/collin/despacho/nipas-coelemu-trehuaco-quirihue-ninhue-san-nicolas-portezuelo-19/
END:VEVENT
BEGIN:VEVENT
DTSTART;TZID=America/Santiago:20211111T080000
DTEND;TZID=America/Santiago:20211111T170000
DTSTAMP:20260423T222515
CREATED:20211028T192333Z
LAST-MODIFIED:20211028T192333Z
UID:13851-1636617600-1636650000@www.hidrocentro.cl
SUMMARY:Chillán
DESCRIPTION:
URL:https://www.hidrocentro.cl/collin/despacho/chillan-68/
END:VEVENT
BEGIN:VEVENT
DTSTART;TZID=America/Santiago:20211112T080000
DTEND;TZID=America/Santiago:20211112T170000
DTSTAMP:20260423T222515
CREATED:20211028T192403Z
LAST-MODIFIED:20211028T192403Z
UID:13853-1636704000-1636736400@www.hidrocentro.cl
SUMMARY:Pinto – Coihueco – Los Lleuques
DESCRIPTION:
URL:https://www.hidrocentro.cl/collin/despacho/pinto-coihueco-los-lleuques-18/
END:VEVENT
BEGIN:VEVENT
DTSTART;TZID=America/Santiago:20211115T080000
DTEND;TZID=America/Santiago:20211115T170000
DTSTAMP:20260423T222515
CREATED:20211115T191011Z
LAST-MODIFIED:20211115T191011Z
UID:13930-1636963200-1636995600@www.hidrocentro.cl
SUMMARY:San Carlos – San Fabian
DESCRIPTION:
URL:https://www.hidrocentro.cl/collin/despacho/san-carlos-san-fabian-16/
END:VEVENT
BEGIN:VEVENT
DTSTART;TZID=America/Santiago:20211116T080000
DTEND;TZID=America/Santiago:20211116T170000
DTSTAMP:20260423T222515
CREATED:20211115T191042Z
LAST-MODIFIED:20211115T191042Z
UID:13932-1637049600-1637082000@www.hidrocentro.cl
SUMMARY:Chillán
DESCRIPTION:
URL:https://www.hidrocentro.cl/collin/despacho/chillan-69/
END:VEVENT
BEGIN:VEVENT
DTSTART;TZID=America/Santiago:20211117T080000
DTEND;TZID=America/Santiago:20211117T170000
DTSTAMP:20260423T222515
CREATED:20211115T191115Z
LAST-MODIFIED:20211115T191115Z
UID:13934-1637136000-1637168400@www.hidrocentro.cl
SUMMARY:Pemuco – El Carmen – Pueblo Seco – San Ignacio – Bulnes – Quillon
DESCRIPTION:
URL:https://www.hidrocentro.cl/collin/despacho/pemuco-el-carmen-pueblo-seco-san-ignacio-bulnes-quillon-5/
END:VEVENT
BEGIN:VEVENT
DTSTART;TZID=America/Santiago:20211118T080000
DTEND;TZID=America/Santiago:20211118T170000
DTSTAMP:20260423T222515
CREATED:20211115T191142Z
LAST-MODIFIED:20211115T191142Z
UID:13936-1637222400-1637254800@www.hidrocentro.cl
SUMMARY:Chillán
DESCRIPTION:
URL:https://www.hidrocentro.cl/collin/despacho/chillan-70/
END:VEVENT
BEGIN:VEVENT
DTSTART;TZID=America/Santiago:20211119T080000
DTEND;TZID=America/Santiago:20211119T170000
DTSTAMP:20260423T222515
CREATED:20211115T191220Z
LAST-MODIFIED:20211115T191220Z
UID:13939-1637308800-1637341200@www.hidrocentro.cl
SUMMARY:Cobquecura
DESCRIPTION:
URL:https://www.hidrocentro.cl/collin/despacho/cobquecura-5/
END:VEVENT
BEGIN:VEVENT
DTSTART;TZID=America/Santiago:20211122T080000
DTEND;TZID=America/Santiago:20211122T170000
DTSTAMP:20260423T222515
CREATED:20211115T191252Z
LAST-MODIFIED:20211115T191252Z
UID:13941-1637568000-1637600400@www.hidrocentro.cl
SUMMARY:Parral – Catillo – Retiro – Cauquenes – Longaví
DESCRIPTION:
URL:https://www.hidrocentro.cl/collin/despacho/parral-catillo-retiro-cauquenes-longavi-19/
END:VEVENT
BEGIN:VEVENT
DTSTART;TZID=America/Santiago:20211123T080000
DTEND;TZID=America/Santiago:20211123T170000
DTSTAMP:20260423T222515
CREATED:20211115T191313Z
LAST-MODIFIED:20211115T191313Z
UID:13943-1637654400-1637686800@www.hidrocentro.cl
SUMMARY:Chillán
DESCRIPTION:
URL:https://www.hidrocentro.cl/collin/despacho/chillan-71/
END:VEVENT
BEGIN:VEVENT
DTSTART;TZID=America/Santiago:20211124T080000
DTEND;TZID=America/Santiago:20211124T170000
DTSTAMP:20260423T222515
CREATED:20211115T191343Z
LAST-MODIFIED:20211115T191343Z
UID:13945-1637740800-1637773200@www.hidrocentro.cl
SUMMARY:Ñipas – Coelemu – Trehuaco – Quirihue – Ninhue – San Nicolas- Portezuelo
DESCRIPTION:
URL:https://www.hidrocentro.cl/collin/despacho/nipas-coelemu-trehuaco-quirihue-ninhue-san-nicolas-portezuelo-20/
END:VEVENT
BEGIN:VEVENT
DTSTART;TZID=America/Santiago:20211125T080000
DTEND;TZID=America/Santiago:20211125T170000
DTSTAMP:20260423T222515
CREATED:20211115T191405Z
LAST-MODIFIED:20211115T191405Z
UID:13947-1637827200-1637859600@www.hidrocentro.cl
SUMMARY:Chillán
DESCRIPTION:
URL:https://www.hidrocentro.cl/collin/despacho/chillan-72/
END:VEVENT
BEGIN:VEVENT
DTSTART;TZID=America/Santiago:20211126T080000
DTEND;TZID=America/Santiago:20211126T170000
DTSTAMP:20260423T222515
CREATED:20211115T191430Z
LAST-MODIFIED:20211115T191619Z
UID:13949-1637913600-1637946000@www.hidrocentro.cl
SUMMARY:Pinto – Coihueco – Los Lleuques
DESCRIPTION:
URL:https://www.hidrocentro.cl/collin/despacho/pinto-coihueco-los-lleuques-19/
END:VEVENT
BEGIN:VEVENT
DTSTART;TZID=America/Santiago:20211129T080000
DTEND;TZID=America/Santiago:20211129T170000
DTSTAMP:20260423T222515
CREATED:20211115T191823Z
LAST-MODIFIED:20211115T191823Z
UID:13951-1638172800-1638205200@www.hidrocentro.cl
SUMMARY:San Carlos – San Fabian
DESCRIPTION:
URL:https://www.hidrocentro.cl/collin/despacho/san-carlos-san-fabian-17/
END:VEVENT
BEGIN:VEVENT
DTSTART;TZID=America/Santiago:20211130T080000
DTEND;TZID=America/Santiago:20211130T170000
DTSTAMP:20260423T222515
CREATED:20211115T191845Z
LAST-MODIFIED:20211115T191852Z
UID:13953-1638259200-1638291600@www.hidrocentro.cl
SUMMARY:Chillán
DESCRIPTION:
URL:https://www.hidrocentro.cl/collin/despacho/chillan-73/
END:VEVENT
BEGIN:VEVENT
DTSTART;TZID=America/Santiago:20211201T080000
DTEND;TZID=America/Santiago:20211201T170000
DTSTAMP:20260423T222515
CREATED:20211115T191925Z
LAST-MODIFIED:20211115T191925Z
UID:13956-1638345600-1638378000@www.hidrocentro.cl
SUMMARY:Pemuco – El Carmen – Pueblo Seco – San Ignacio – Bulnes – Quillon
DESCRIPTION:
URL:https://www.hidrocentro.cl/collin/despacho/pemuco-el-carmen-pueblo-seco-san-ignacio-bulnes-quillon-6/
END:VEVENT
BEGIN:VEVENT
DTSTART;TZID=America/Santiago:20211202T080000
DTEND;TZID=America/Santiago:20211202T170000
DTSTAMP:20260423T222515
CREATED:20211115T192009Z
LAST-MODIFIED:20211115T192009Z
UID:13958-1638432000-1638464400@www.hidrocentro.cl
SUMMARY:Chillán
DESCRIPTION:
URL:https://www.hidrocentro.cl/collin/despacho/chillan-74/
END:VEVENT
BEGIN:VEVENT
DTSTART;TZID=America/Santiago:20211203T080000
DTEND;TZID=America/Santiago:20211203T170000
DTSTAMP:20260423T222515
CREATED:20211115T192232Z
LAST-MODIFIED:20211115T192232Z
UID:13960-1638518400-1638550800@www.hidrocentro.cl
SUMMARY:Cobquecura
DESCRIPTION:
URL:https://www.hidrocentro.cl/collin/despacho/cobquecura-6/
END:VEVENT
END:VCALENDAR