BEGIN:VCALENDAR
VERSION:2.0
PRODID:-//Collín - hidrocentro - ECPv5.5.0.1//NONSGML v1.0//EN
CALSCALE:GREGORIAN
METHOD:PUBLISH
X-WR-CALNAME:Collín - hidrocentro
X-ORIGINAL-URL:https://www.hidrocentro.cl/collin
X-WR-CALDESC:Eventos para Collín - hidrocentro
BEGIN:VTIMEZONE
TZID:America/Santiago
BEGIN:STANDARD
TZOFFSETFROM:-0300
TZOFFSETTO:-0400
TZNAME:-04
DTSTART:20220403T030000
END:STANDARD
BEGIN:DAYLIGHT
TZOFFSETFROM:-0400
TZOFFSETTO:-0300
TZNAME:-03
DTSTART:20220904T040000
END:DAYLIGHT
END:VTIMEZONE
BEGIN:VEVENT
DTSTART;TZID=America/Santiago:20220301T080000
DTEND;TZID=America/Santiago:20220301T170000
DTSTAMP:20260423T164206
CREATED:20220318T165446Z
LAST-MODIFIED:20220318T165446Z
UID:14517-1646121600-1646154000@www.hidrocentro.cl
SUMMARY:Pemuco – El Carmen – Pueblo Seco – San Ignacio – Bulnes – Quillon
DESCRIPTION:
URL:https://www.hidrocentro.cl/collin/despacho/pemuco-el-carmen-pueblo-seco-san-ignacio-bulnes-quillon-8/
END:VEVENT
BEGIN:VEVENT
DTSTART;TZID=America/Santiago:20220321T080000
DTEND;TZID=America/Santiago:20220321T170000
DTSTAMP:20260423T164206
CREATED:20220318T165756Z
LAST-MODIFIED:20220318T165756Z
UID:14521-1647849600-1647882000@www.hidrocentro.cl
SUMMARY:San Carlos – San Fabian
DESCRIPTION:
URL:https://www.hidrocentro.cl/collin/despacho/san-carlos-san-fabian-19/
END:VEVENT
BEGIN:VEVENT
DTSTART;TZID=America/Santiago:20220322T080000
DTEND;TZID=America/Santiago:20220322T170000
DTSTAMP:20260423T164206
CREATED:20220318T165820Z
LAST-MODIFIED:20220318T165820Z
UID:14523-1647936000-1647968400@www.hidrocentro.cl
SUMMARY:Chillán
DESCRIPTION:
URL:https://www.hidrocentro.cl/collin/despacho/chillan-81/
END:VEVENT
BEGIN:VEVENT
DTSTART;TZID=America/Santiago:20220323T080000
DTEND;TZID=America/Santiago:20220323T170000
DTSTAMP:20260423T164206
CREATED:20220318T165934Z
LAST-MODIFIED:20220318T165934Z
UID:14525-1648022400-1648054800@www.hidrocentro.cl
SUMMARY:Pemuco – El Carmen – Pueblo Seco – San Ignacio – Bulnes – Quillon
DESCRIPTION:
URL:https://www.hidrocentro.cl/collin/despacho/pemuco-el-carmen-pueblo-seco-san-ignacio-bulnes-quillon-9/
END:VEVENT
BEGIN:VEVENT
DTSTART;TZID=America/Santiago:20220324T080000
DTEND;TZID=America/Santiago:20220324T170000
DTSTAMP:20260423T164206
CREATED:20211204T143101Z
LAST-MODIFIED:20220318T171232Z
UID:14081-1648108800-1648141200@www.hidrocentro.cl
SUMMARY:Chillán
DESCRIPTION:
URL:https://www.hidrocentro.cl/collin/despacho/chillan-77/
END:VEVENT
BEGIN:VEVENT
DTSTART;TZID=America/Santiago:20220325T080000
DTEND;TZID=America/Santiago:20220325T170000
DTSTAMP:20260423T164206
CREATED:20220318T170056Z
LAST-MODIFIED:20220318T170503Z
UID:14529-1648195200-1648227600@www.hidrocentro.cl
SUMMARY:Cobquecura
DESCRIPTION:
URL:https://www.hidrocentro.cl/collin/despacho/cobquecura-8/
END:VEVENT
BEGIN:VEVENT
DTSTART;TZID=America/Santiago:20220328T080000
DTEND;TZID=America/Santiago:20220328T170000
DTSTAMP:20260423T164206
CREATED:20220318T170609Z
LAST-MODIFIED:20220318T170609Z
UID:14531-1648454400-1648486800@www.hidrocentro.cl
SUMMARY:Parral – Catillo – Retiro – Cauquenes – Longaví
DESCRIPTION:
URL:https://www.hidrocentro.cl/collin/despacho/parral-catillo-retiro-cauquenes-longavi-22/
END:VEVENT
BEGIN:VEVENT
DTSTART;TZID=America/Santiago:20220329T080000
DTEND;TZID=America/Santiago:20220329T170000
DTSTAMP:20260423T164206
CREATED:20220318T170027Z
LAST-MODIFIED:20220318T170849Z
UID:14527-1648540800-1648573200@www.hidrocentro.cl
SUMMARY:Chillán
DESCRIPTION:
URL:https://www.hidrocentro.cl/collin/despacho/chillan-82/
END:VEVENT
BEGIN:VEVENT
DTSTART;TZID=America/Santiago:20220330T080000
DTEND;TZID=America/Santiago:20220330T170000
DTSTAMP:20260423T164206
CREATED:20211204T143923Z
LAST-MODIFIED:20220318T170735Z
UID:14094-1648627200-1648659600@www.hidrocentro.cl
SUMMARY:Ñipas – Coelemu – Trehuaco – Quirihue – Ninhue – San Nicolas- Portezuelo
DESCRIPTION:
URL:https://www.hidrocentro.cl/collin/despacho/ipas-coelemu-trehuaco-quirihue-ninhue-san-nicolas-portezuelo/
END:VEVENT
BEGIN:VEVENT
DTSTART;TZID=America/Santiago:20220331T080000
DTEND;TZID=America/Santiago:20220331T170000
DTSTAMP:20260423T164206
CREATED:20220318T170634Z
LAST-MODIFIED:20220318T170757Z
UID:14533-1648713600-1648746000@www.hidrocentro.cl
SUMMARY:Chillán
DESCRIPTION:
URL:https://www.hidrocentro.cl/collin/despacho/chillan-83/
END:VEVENT
BEGIN:VEVENT
DTSTART;TZID=America/Santiago:20220401T080000
DTEND;TZID=America/Santiago:20220401T170000
DTSTAMP:20260423T164206
CREATED:20220318T165601Z
LAST-MODIFIED:20220318T170928Z
UID:14519-1648800000-1648832400@www.hidrocentro.cl
SUMMARY:Pinto – Coihueco – Los Lleuques
DESCRIPTION:
URL:https://www.hidrocentro.cl/collin/despacho/pinto-coihueco-los-lleuques-22/
END:VEVENT
END:VCALENDAR