BEGIN:VCALENDAR
VERSION:2.0
PRODID:-//Collín - hidrocentro - ECPv5.5.0.1//NONSGML v1.0//EN
CALSCALE:GREGORIAN
METHOD:PUBLISH
X-WR-CALNAME:Collín - hidrocentro
X-ORIGINAL-URL:https://www.hidrocentro.cl/collin
X-WR-CALDESC:Eventos para Collín - hidrocentro
BEGIN:VTIMEZONE
TZID:America/Santiago
BEGIN:STANDARD
TZOFFSETFROM:-0300
TZOFFSETTO:-0400
TZNAME:-04
DTSTART:20220403T030000
END:STANDARD
BEGIN:DAYLIGHT
TZOFFSETFROM:-0400
TZOFFSETTO:-0300
TZNAME:-03
DTSTART:20220904T040000
END:DAYLIGHT
END:VTIMEZONE
BEGIN:VEVENT
DTSTART;TZID=America/Santiago:20220425T080000
DTEND;TZID=America/Santiago:20220425T170000
DTSTAMP:20260423T135033
CREATED:20220511T183828Z
LAST-MODIFIED:20220511T183828Z
UID:14781-1650873600-1650906000@www.hidrocentro.cl
SUMMARY:Parral – Catillo – Retiro – Cauquenes – Longaví
DESCRIPTION:
URL:https://www.hidrocentro.cl/collin/despacho/parral-catillo-retiro-cauquenes-longavi-24/
END:VEVENT
BEGIN:VEVENT
DTSTART;TZID=America/Santiago:20220426T080000
DTEND;TZID=America/Santiago:20220426T170000
DTSTAMP:20260423T135033
CREATED:20220511T183859Z
LAST-MODIFIED:20220511T183906Z
UID:14783-1650960000-1650992400@www.hidrocentro.cl
SUMMARY:Chillán
DESCRIPTION:
URL:https://www.hidrocentro.cl/collin/despacho/chillan-90/
END:VEVENT
BEGIN:VEVENT
DTSTART;TZID=America/Santiago:20220427T080000
DTEND;TZID=America/Santiago:20220427T170000
DTSTAMP:20260423T135033
CREATED:20220511T183936Z
LAST-MODIFIED:20220511T183936Z
UID:14785-1651046400-1651078800@www.hidrocentro.cl
SUMMARY:Ñipas – Coelemu – Trehuaco – Quirihue – Ninhue – San Nicolas- Portezuelo
DESCRIPTION:
URL:https://www.hidrocentro.cl/collin/despacho/nipas-coelemu-trehuaco-quirihue-ninhue-san-nicolas-portezuelo-23/
END:VEVENT
BEGIN:VEVENT
DTSTART;TZID=America/Santiago:20220428T080000
DTEND;TZID=America/Santiago:20220428T170000
DTSTAMP:20260423T135033
CREATED:20220511T184009Z
LAST-MODIFIED:20220511T184009Z
UID:14787-1651132800-1651165200@www.hidrocentro.cl
SUMMARY:Chillán
DESCRIPTION:
URL:https://www.hidrocentro.cl/collin/despacho/chillan-91/
END:VEVENT
BEGIN:VEVENT
DTSTART;TZID=America/Santiago:20220429T080000
DTEND;TZID=America/Santiago:20220429T170000
DTSTAMP:20260423T135033
CREATED:20220513T144759Z
LAST-MODIFIED:20220513T144835Z
UID:14791-1651219200-1651251600@www.hidrocentro.cl
SUMMARY:Pinto – Coihueco – Los Lleuques
DESCRIPTION:
URL:https://www.hidrocentro.cl/collin/despacho/pinto-coihueco-los-lleuques-24/
END:VEVENT
BEGIN:VEVENT
DTSTART;TZID=America/Santiago:20220502T080000
DTEND;TZID=America/Santiago:20220502T170000
DTSTAMP:20260423T135033
CREATED:20220513T145005Z
LAST-MODIFIED:20220513T145033Z
UID:14793-1651478400-1651510800@www.hidrocentro.cl
SUMMARY:San Carlos – San Fabian
DESCRIPTION:
URL:https://www.hidrocentro.cl/collin/despacho/san-carlos-san-fabian-22/
END:VEVENT
BEGIN:VEVENT
DTSTART;TZID=America/Santiago:20220503T080000
DTEND;TZID=America/Santiago:20220503T170000
DTSTAMP:20260423T135033
CREATED:20220513T145055Z
LAST-MODIFIED:20220513T145055Z
UID:14795-1651564800-1651597200@www.hidrocentro.cl
SUMMARY:Chillán
DESCRIPTION:
URL:https://www.hidrocentro.cl/collin/despacho/chillan-92/
END:VEVENT
BEGIN:VEVENT
DTSTART;TZID=America/Santiago:20220504T080000
DTEND;TZID=America/Santiago:20220504T170000
DTSTAMP:20260423T135033
CREATED:20220513T145125Z
LAST-MODIFIED:20220513T165421Z
UID:14797-1651651200-1651683600@www.hidrocentro.cl
SUMMARY:Pemuco – El Carmen – Pueblo Seco – San Ignacio – Bulnes – Quillon
DESCRIPTION:
URL:https://www.hidrocentro.cl/collin/despacho/pemuco-el-carmen-pueblo-seco-san-ignacio-bulnes-quillon-12/
END:VEVENT
BEGIN:VEVENT
DTSTART;TZID=America/Santiago:20220505T080000
DTEND;TZID=America/Santiago:20220505T170000
DTSTAMP:20260423T135033
CREATED:20220513T165444Z
LAST-MODIFIED:20220513T165449Z
UID:14800-1651737600-1651770000@www.hidrocentro.cl
SUMMARY:Chillán
DESCRIPTION:
URL:https://www.hidrocentro.cl/collin/despacho/chillan-93/
END:VEVENT
BEGIN:VEVENT
DTSTART;TZID=America/Santiago:20220506T080000
DTEND;TZID=America/Santiago:20220506T170000
DTSTAMP:20260423T135033
CREATED:20220513T165517Z
LAST-MODIFIED:20220513T165528Z
UID:14802-1651824000-1651856400@www.hidrocentro.cl
SUMMARY:Cobquecura
DESCRIPTION:
URL:https://www.hidrocentro.cl/collin/despacho/cobquecura-11/
END:VEVENT
BEGIN:VEVENT
DTSTART;TZID=America/Santiago:20220509T080000
DTEND;TZID=America/Santiago:20220509T170000
DTSTAMP:20260423T135033
CREATED:20220514T170744Z
LAST-MODIFIED:20220514T170840Z
UID:14805-1652083200-1652115600@www.hidrocentro.cl
SUMMARY:Parral – Catillo – Retiro – Cauquenes – Longaví
DESCRIPTION:
URL:https://www.hidrocentro.cl/collin/despacho/parral-catillo-retiro-cauquenes-longavi-25/
END:VEVENT
BEGIN:VEVENT
DTSTART;TZID=America/Santiago:20220510T080000
DTEND;TZID=America/Santiago:20220510T170000
DTSTAMP:20260423T135033
CREATED:20220514T170904Z
LAST-MODIFIED:20220514T170904Z
UID:14807-1652169600-1652202000@www.hidrocentro.cl
SUMMARY:Chillán
DESCRIPTION:
URL:https://www.hidrocentro.cl/collin/despacho/chillan-94/
END:VEVENT
BEGIN:VEVENT
DTSTART;TZID=America/Santiago:20220511T080000
DTEND;TZID=America/Santiago:20220511T170000
DTSTAMP:20260423T135033
CREATED:20220514T170934Z
LAST-MODIFIED:20220514T170941Z
UID:14809-1652256000-1652288400@www.hidrocentro.cl
SUMMARY:Ñipas – Coelemu – Trehuaco – Quirihue – Ninhue – San Nicolas- Portezuelo
DESCRIPTION:
URL:https://www.hidrocentro.cl/collin/despacho/nipas-coelemu-trehuaco-quirihue-ninhue-san-nicolas-portezuelo-24/
END:VEVENT
BEGIN:VEVENT
DTSTART;TZID=America/Santiago:20220512T080000
DTEND;TZID=America/Santiago:20220512T170000
DTSTAMP:20260423T135033
CREATED:20220514T171008Z
LAST-MODIFIED:20220514T171015Z
UID:14811-1652342400-1652374800@www.hidrocentro.cl
SUMMARY:Chillán
DESCRIPTION:
URL:https://www.hidrocentro.cl/collin/despacho/chillan-95/
END:VEVENT
BEGIN:VEVENT
DTSTART;TZID=America/Santiago:20220513T080000
DTEND;TZID=America/Santiago:20220513T170000
DTSTAMP:20260423T135033
CREATED:20220514T171050Z
LAST-MODIFIED:20220514T171056Z
UID:14813-1652428800-1652461200@www.hidrocentro.cl
SUMMARY:Pinto – Coihueco – Los Lleuques
DESCRIPTION:
URL:https://www.hidrocentro.cl/collin/despacho/pinto-coihueco-los-lleuques-25/
END:VEVENT
BEGIN:VEVENT
DTSTART;TZID=America/Santiago:20220516T080000
DTEND;TZID=America/Santiago:20220516T170000
DTSTAMP:20260423T135033
CREATED:20220514T171119Z
LAST-MODIFIED:20220514T171119Z
UID:14815-1652688000-1652720400@www.hidrocentro.cl
SUMMARY:San Carlos – San Fabian
DESCRIPTION:
URL:https://www.hidrocentro.cl/collin/despacho/san-carlos-san-fabian-23/
END:VEVENT
BEGIN:VEVENT
DTSTART;TZID=America/Santiago:20220517T080000
DTEND;TZID=America/Santiago:20220517T170000
DTSTAMP:20260423T135033
CREATED:20220514T171144Z
LAST-MODIFIED:20220514T171149Z
UID:14817-1652774400-1652806800@www.hidrocentro.cl
SUMMARY:Chillán
DESCRIPTION:
URL:https://www.hidrocentro.cl/collin/despacho/chillan-96/
END:VEVENT
BEGIN:VEVENT
DTSTART;TZID=America/Santiago:20220518T080000
DTEND;TZID=America/Santiago:20220518T170000
DTSTAMP:20260423T135033
CREATED:20220514T171216Z
LAST-MODIFIED:20220514T171222Z
UID:14819-1652860800-1652893200@www.hidrocentro.cl
SUMMARY:Pemuco – El Carmen – Pueblo Seco – San Ignacio – Bulnes – Quillon
DESCRIPTION:
URL:https://www.hidrocentro.cl/collin/despacho/pemuco-el-carmen-pueblo-seco-san-ignacio-bulnes-quillon-13/
END:VEVENT
BEGIN:VEVENT
DTSTART;TZID=America/Santiago:20220519T080000
DTEND;TZID=America/Santiago:20220519T170000
DTSTAMP:20260423T135033
CREATED:20220514T171243Z
LAST-MODIFIED:20220514T171247Z
UID:14821-1652947200-1652979600@www.hidrocentro.cl
SUMMARY:Chillán
DESCRIPTION:
URL:https://www.hidrocentro.cl/collin/despacho/chillan-97/
END:VEVENT
BEGIN:VEVENT
DTSTART;TZID=America/Santiago:20220520T080000
DTEND;TZID=America/Santiago:20220520T170000
DTSTAMP:20260423T135033
CREATED:20220514T171340Z
LAST-MODIFIED:20220514T171501Z
UID:14823-1653033600-1653066000@www.hidrocentro.cl
SUMMARY:Cobquecura
DESCRIPTION:
URL:https://www.hidrocentro.cl/collin/despacho/cobquecura-12/
END:VEVENT
END:VCALENDAR