BEGIN:VCALENDAR
VERSION:2.0
PRODID:-//Collín - hidrocentro - ECPv5.5.0.1//NONSGML v1.0//EN
CALSCALE:GREGORIAN
METHOD:PUBLISH
X-WR-CALNAME:Collín - hidrocentro
X-ORIGINAL-URL:https://www.hidrocentro.cl/collin
X-WR-CALDESC:Eventos para Collín - hidrocentro
BEGIN:VTIMEZONE
TZID:America/Santiago
BEGIN:STANDARD
TZOFFSETFROM:-0300
TZOFFSETTO:-0400
TZNAME:-04
DTSTART:20220403T030000
END:STANDARD
BEGIN:DAYLIGHT
TZOFFSETFROM:-0400
TZOFFSETTO:-0300
TZNAME:-03
DTSTART:20220904T040000
END:DAYLIGHT
END:VTIMEZONE
BEGIN:VEVENT
DTSTART;TZID=America/Santiago:20220808T080000
DTEND;TZID=America/Santiago:20220808T170000
DTSTAMP:20260423T095028
CREATED:20220811T185817Z
LAST-MODIFIED:20220811T185817Z
UID:15025-1659945600-1659978000@www.hidrocentro.cl
SUMMARY:San Carlos – San Fabian
DESCRIPTION:
URL:https://www.hidrocentro.cl/collin/despacho/san-carlos-san-fabian-24/
END:VEVENT
BEGIN:VEVENT
DTSTART;TZID=America/Santiago:20220809T080000
DTEND;TZID=America/Santiago:20220809T170000
DTSTAMP:20260423T095028
CREATED:20220811T190001Z
LAST-MODIFIED:20220811T190001Z
UID:15031-1660032000-1660064400@www.hidrocentro.cl
SUMMARY:Chillán
DESCRIPTION:
URL:https://www.hidrocentro.cl/collin/despacho/chillan-98/
END:VEVENT
BEGIN:VEVENT
DTSTART;TZID=America/Santiago:20220810T080000
DTEND;TZID=America/Santiago:20220810T170000
DTSTAMP:20260423T095028
CREATED:20220811T185856Z
LAST-MODIFIED:20220811T185856Z
UID:15027-1660118400-1660150800@www.hidrocentro.cl
SUMMARY:Pemuco – El Carmen – Pueblo Seco – San Ignacio – Bulnes – Quillon
DESCRIPTION:
URL:https://www.hidrocentro.cl/collin/despacho/pemuco-el-carmen-pueblo-seco-san-ignacio-bulnes-quillon-14/
END:VEVENT
BEGIN:VEVENT
DTSTART;TZID=America/Santiago:20220811T080000
DTEND;TZID=America/Santiago:20220811T170000
DTSTAMP:20260423T095028
CREATED:20220811T190055Z
LAST-MODIFIED:20220811T190055Z
UID:15033-1660204800-1660237200@www.hidrocentro.cl
SUMMARY:Chillán
DESCRIPTION:
URL:https://www.hidrocentro.cl/collin/despacho/chillan-99/
END:VEVENT
BEGIN:VEVENT
DTSTART;TZID=America/Santiago:20220812T080000
DTEND;TZID=America/Santiago:20220812T170000
DTSTAMP:20260423T095028
CREATED:20220811T190150Z
LAST-MODIFIED:20220811T190150Z
UID:15035-1660291200-1660323600@www.hidrocentro.cl
SUMMARY:Cobquecura
DESCRIPTION:
URL:https://www.hidrocentro.cl/collin/despacho/cobquecura-13/
END:VEVENT
BEGIN:VEVENT
DTSTART;TZID=America/Santiago:20220815T080000
DTEND;TZID=America/Santiago:20220815T170000
DTSTAMP:20260423T095028
CREATED:20220811T190225Z
LAST-MODIFIED:20220811T190225Z
UID:15037-1660550400-1660582800@www.hidrocentro.cl
SUMMARY:Parral – Catillo – Retiro – Cauquenes – Longaví
DESCRIPTION:
URL:https://www.hidrocentro.cl/collin/despacho/parral-catillo-retiro-cauquenes-longavi-26/
END:VEVENT
BEGIN:VEVENT
DTSTART;TZID=America/Santiago:20220816T080000
DTEND;TZID=America/Santiago:20220816T170000
DTSTAMP:20260423T095028
CREATED:20220811T190242Z
LAST-MODIFIED:20220811T190242Z
UID:15039-1660636800-1660669200@www.hidrocentro.cl
SUMMARY:Chillán
DESCRIPTION:
URL:https://www.hidrocentro.cl/collin/despacho/chillan-100/
END:VEVENT
BEGIN:VEVENT
DTSTART;TZID=America/Santiago:20220817T080000
DTEND;TZID=America/Santiago:20220817T170000
DTSTAMP:20260423T095028
CREATED:20220811T190318Z
LAST-MODIFIED:20220811T190318Z
UID:15041-1660723200-1660755600@www.hidrocentro.cl
SUMMARY:Ñipas – Coelemu – Trehuaco – Quirihue – Ninhue – San Nicolas- Portezuelo
DESCRIPTION:
URL:https://www.hidrocentro.cl/collin/despacho/nipas-coelemu-trehuaco-quirihue-ninhue-san-nicolas-portezuelo-25/
END:VEVENT
BEGIN:VEVENT
DTSTART;TZID=America/Santiago:20220818T080000
DTEND;TZID=America/Santiago:20220818T170000
DTSTAMP:20260423T095028
CREATED:20220811T190348Z
LAST-MODIFIED:20220811T190348Z
UID:15043-1660809600-1660842000@www.hidrocentro.cl
SUMMARY:Chillán
DESCRIPTION:
URL:https://www.hidrocentro.cl/collin/despacho/chillan-101/
END:VEVENT
BEGIN:VEVENT
DTSTART;TZID=America/Santiago:20220819T080000
DTEND;TZID=America/Santiago:20220819T170000
DTSTAMP:20260423T095028
CREATED:20220811T190421Z
LAST-MODIFIED:20220811T190445Z
UID:15045-1660896000-1660928400@www.hidrocentro.cl
SUMMARY:Pinto – Coihueco – Los Lleuques
DESCRIPTION:
URL:https://www.hidrocentro.cl/collin/despacho/pinto-coihueco-los-lleuques-26/
END:VEVENT
BEGIN:VEVENT
DTSTART;TZID=America/Santiago:20220822T080000
DTEND;TZID=America/Santiago:20220822T170000
DTSTAMP:20260423T095028
CREATED:20220811T191442Z
LAST-MODIFIED:20220811T191442Z
UID:15048-1661155200-1661187600@www.hidrocentro.cl
SUMMARY:San Carlos – San Fabian
DESCRIPTION:
URL:https://www.hidrocentro.cl/collin/despacho/san-carlos-san-fabian-25/
END:VEVENT
BEGIN:VEVENT
DTSTART;TZID=America/Santiago:20220823T080000
DTEND;TZID=America/Santiago:20220823T170000
DTSTAMP:20260423T095028
CREATED:20220813T155707Z
LAST-MODIFIED:20220813T155707Z
UID:15056-1661241600-1661274000@www.hidrocentro.cl
SUMMARY:Chillán
DESCRIPTION:
URL:https://www.hidrocentro.cl/collin/despacho/chillan-102/
END:VEVENT
BEGIN:VEVENT
DTSTART;TZID=America/Santiago:20220824T080000
DTEND;TZID=America/Santiago:20220824T170000
DTSTAMP:20260423T095028
CREATED:20220813T155735Z
LAST-MODIFIED:20220813T155922Z
UID:15058-1661328000-1661360400@www.hidrocentro.cl
SUMMARY:Pemuco – El Carmen – Pueblo Seco – San Ignacio – Bulnes – Quillon
DESCRIPTION:
URL:https://www.hidrocentro.cl/collin/despacho/pemuco-el-carmen-pueblo-seco-san-ignacio-bulnes-quillon-15/
END:VEVENT
BEGIN:VEVENT
DTSTART;TZID=America/Santiago:20220825T080000
DTEND;TZID=America/Santiago:20220825T170000
DTSTAMP:20260423T095028
CREATED:20220813T155942Z
LAST-MODIFIED:20220813T160240Z
UID:15060-1661414400-1661446800@www.hidrocentro.cl
SUMMARY:Chillán
DESCRIPTION:
URL:https://www.hidrocentro.cl/collin/despacho/chillan-103/
END:VEVENT
BEGIN:VEVENT
DTSTART;TZID=America/Santiago:20220826T080000
DTEND;TZID=America/Santiago:20220826T170000
DTSTAMP:20260423T095028
CREATED:20220813T160308Z
LAST-MODIFIED:20220813T160308Z
UID:15062-1661500800-1661533200@www.hidrocentro.cl
SUMMARY:Cobquecura
DESCRIPTION:
URL:https://www.hidrocentro.cl/collin/despacho/cobquecura-14/
END:VEVENT
BEGIN:VEVENT
DTSTART;TZID=America/Santiago:20220829T080000
DTEND;TZID=America/Santiago:20220829T170000
DTSTAMP:20260423T095028
CREATED:20220813T160418Z
LAST-MODIFIED:20220813T160418Z
UID:15064-1661760000-1661792400@www.hidrocentro.cl
SUMMARY:Parral – Catillo – Retiro – Cauquenes – Longaví
DESCRIPTION:
URL:https://www.hidrocentro.cl/collin/despacho/parral-catillo-retiro-cauquenes-longavi-27/
END:VEVENT
BEGIN:VEVENT
DTSTART;TZID=America/Santiago:20220830T080000
DTEND;TZID=America/Santiago:20220830T170000
DTSTAMP:20260423T095028
CREATED:20220813T160437Z
LAST-MODIFIED:20220813T160437Z
UID:15066-1661846400-1661878800@www.hidrocentro.cl
SUMMARY:Chillán
DESCRIPTION:
URL:https://www.hidrocentro.cl/collin/despacho/chillan-104/
END:VEVENT
BEGIN:VEVENT
DTSTART;TZID=America/Santiago:20220831T080000
DTEND;TZID=America/Santiago:20220831T170000
DTSTAMP:20260423T095028
CREATED:20220813T160503Z
LAST-MODIFIED:20220813T160507Z
UID:15068-1661932800-1661965200@www.hidrocentro.cl
SUMMARY:Ñipas – Coelemu – Trehuaco – Quirihue – Ninhue – San Nicolas- Portezuelo
DESCRIPTION:
URL:https://www.hidrocentro.cl/collin/despacho/nipas-coelemu-trehuaco-quirihue-ninhue-san-nicolas-portezuelo-26/
END:VEVENT
BEGIN:VEVENT
DTSTART;TZID=America/Santiago:20220901T080000
DTEND;TZID=America/Santiago:20220901T170000
DTSTAMP:20260423T095028
CREATED:20220813T160532Z
LAST-MODIFIED:20220813T160535Z
UID:15070-1662019200-1662051600@www.hidrocentro.cl
SUMMARY:Chillán
DESCRIPTION:
URL:https://www.hidrocentro.cl/collin/despacho/chillan-105/
END:VEVENT
BEGIN:VEVENT
DTSTART;TZID=America/Santiago:20220902T080000
DTEND;TZID=America/Santiago:20220902T170000
DTSTAMP:20260423T095028
CREATED:20220813T160603Z
LAST-MODIFIED:20220813T160606Z
UID:15072-1662105600-1662138000@www.hidrocentro.cl
SUMMARY:Pinto – Coihueco – Los Lleuques
DESCRIPTION:
URL:https://www.hidrocentro.cl/collin/despacho/pinto-coihueco-los-lleuques-27/
END:VEVENT
END:VCALENDAR