BEGIN:VCALENDAR
VERSION:2.0
PRODID:-//Collín - hidrocentro - ECPv5.5.0.1//NONSGML v1.0//EN
CALSCALE:GREGORIAN
METHOD:PUBLISH
X-WR-CALNAME:Collín - hidrocentro
X-ORIGINAL-URL:https://www.hidrocentro.cl/collin
X-WR-CALDESC:Eventos para Collín - hidrocentro
BEGIN:VTIMEZONE
TZID:America/Santiago
BEGIN:STANDARD
TZOFFSETFROM:-0300
TZOFFSETTO:-0400
TZNAME:-04
DTSTART:20220403T030000
END:STANDARD
BEGIN:DAYLIGHT
TZOFFSETFROM:-0400
TZOFFSETTO:-0300
TZNAME:-03
DTSTART:20220904T040000
END:DAYLIGHT
END:VTIMEZONE
BEGIN:VEVENT
DTSTART;TZID=America/Santiago:20220926T080000
DTEND;TZID=America/Santiago:20220926T170000
DTSTAMP:20260423T065154
CREATED:20220930T190828Z
LAST-MODIFIED:20220930T190832Z
UID:15220-1664179200-1664211600@www.hidrocentro.cl
SUMMARY:Parral – Catillo – Retiro – Cauquenes – Longaví
DESCRIPTION:
URL:https://www.hidrocentro.cl/collin/despacho/parral-catillo-retiro-cauquenes-longavi-29/
END:VEVENT
BEGIN:VEVENT
DTSTART;TZID=America/Santiago:20220927T080000
DTEND;TZID=America/Santiago:20220927T170000
DTSTAMP:20260423T065154
CREATED:20220930T190849Z
LAST-MODIFIED:20220930T190855Z
UID:15222-1664265600-1664298000@www.hidrocentro.cl
SUMMARY:Chillán
DESCRIPTION:
URL:https://www.hidrocentro.cl/collin/despacho/chillan-112/
END:VEVENT
BEGIN:VEVENT
DTSTART;TZID=America/Santiago:20220928T080000
DTEND;TZID=America/Santiago:20220928T170000
DTSTAMP:20260423T065154
CREATED:20220930T190920Z
LAST-MODIFIED:20220930T190925Z
UID:15224-1664352000-1664384400@www.hidrocentro.cl
SUMMARY:Ñipas – Coelemu – Trehuaco – Quirihue – Ninhue – San Nicolas- Portezuelo
DESCRIPTION:
URL:https://www.hidrocentro.cl/collin/despacho/nipas-coelemu-trehuaco-quirihue-ninhue-san-nicolas-portezuelo-28/
END:VEVENT
BEGIN:VEVENT
DTSTART;TZID=America/Santiago:20220929T080000
DTEND;TZID=America/Santiago:20220929T170000
DTSTAMP:20260423T065154
CREATED:20220930T190950Z
LAST-MODIFIED:20220930T190950Z
UID:15226-1664438400-1664470800@www.hidrocentro.cl
SUMMARY:Chillán
DESCRIPTION:
URL:https://www.hidrocentro.cl/collin/despacho/chillan-113/
END:VEVENT
BEGIN:VEVENT
DTSTART;TZID=America/Santiago:20220930T080000
DTEND;TZID=America/Santiago:20220930T170000
DTSTAMP:20260423T065154
CREATED:20220930T191017Z
LAST-MODIFIED:20220930T191017Z
UID:15228-1664524800-1664557200@www.hidrocentro.cl
SUMMARY:Pinto – Coihueco – Los Lleuques
DESCRIPTION:
URL:https://www.hidrocentro.cl/collin/despacho/pinto-coihueco-los-lleuques-29/
END:VEVENT
BEGIN:VEVENT
DTSTART;TZID=America/Santiago:20221003T080000
DTEND;TZID=America/Santiago:20221003T170000
DTSTAMP:20260423T065154
CREATED:20221019T135442Z
LAST-MODIFIED:20221019T135446Z
UID:15271-1664784000-1664816400@www.hidrocentro.cl
SUMMARY:San Carlos – San Fabian
DESCRIPTION:
URL:https://www.hidrocentro.cl/collin/despacho/san-carlos-san-fabian-28/
END:VEVENT
BEGIN:VEVENT
DTSTART;TZID=America/Santiago:20221004T080000
DTEND;TZID=America/Santiago:20221004T170000
DTSTAMP:20260423T065154
CREATED:20221019T135506Z
LAST-MODIFIED:20221019T135510Z
UID:15273-1664870400-1664902800@www.hidrocentro.cl
SUMMARY:Chillán
DESCRIPTION:
URL:https://www.hidrocentro.cl/collin/despacho/chillan-114/
END:VEVENT
BEGIN:VEVENT
DTSTART;TZID=America/Santiago:20221005T080000
DTEND;TZID=America/Santiago:20221005T170000
DTSTAMP:20260423T065154
CREATED:20221019T135536Z
LAST-MODIFIED:20221019T135540Z
UID:15275-1664956800-1664989200@www.hidrocentro.cl
SUMMARY:Pemuco – El Carmen – Pueblo Seco – San Ignacio – Bulnes – Quillon
DESCRIPTION:
URL:https://www.hidrocentro.cl/collin/despacho/pemuco-el-carmen-pueblo-seco-san-ignacio-bulnes-quillon-18/
END:VEVENT
BEGIN:VEVENT
DTSTART;TZID=America/Santiago:20221006T080000
DTEND;TZID=America/Santiago:20221006T170000
DTSTAMP:20260423T065154
CREATED:20221019T135603Z
LAST-MODIFIED:20221019T135606Z
UID:15277-1665043200-1665075600@www.hidrocentro.cl
SUMMARY:Chillán
DESCRIPTION:
URL:https://www.hidrocentro.cl/collin/despacho/chillan-115/
END:VEVENT
BEGIN:VEVENT
DTSTART;TZID=America/Santiago:20221007T080000
DTEND;TZID=America/Santiago:20221007T170000
DTSTAMP:20260423T065154
CREATED:20221019T135632Z
LAST-MODIFIED:20221019T135636Z
UID:15279-1665129600-1665162000@www.hidrocentro.cl
SUMMARY:Cobquecura
DESCRIPTION:
URL:https://www.hidrocentro.cl/collin/despacho/cobquecura-17/
END:VEVENT
BEGIN:VEVENT
DTSTART;TZID=America/Santiago:20221010T080000
DTEND;TZID=America/Santiago:20221010T170000
DTSTAMP:20260423T065154
CREATED:20221019T135724Z
LAST-MODIFIED:20221019T135728Z
UID:15281-1665388800-1665421200@www.hidrocentro.cl
SUMMARY:Parral – Catillo – Retiro – Cauquenes – Longaví
DESCRIPTION:
URL:https://www.hidrocentro.cl/collin/despacho/parral-catillo-retiro-cauquenes-longavi-30/
END:VEVENT
BEGIN:VEVENT
DTSTART;TZID=America/Santiago:20221011T080000
DTEND;TZID=America/Santiago:20221011T170000
DTSTAMP:20260423T065154
CREATED:20221019T135756Z
LAST-MODIFIED:20221019T135800Z
UID:15283-1665475200-1665507600@www.hidrocentro.cl
SUMMARY:Chillán
DESCRIPTION:
URL:https://www.hidrocentro.cl/collin/despacho/chillan-116/
END:VEVENT
BEGIN:VEVENT
DTSTART;TZID=America/Santiago:20221012T080000
DTEND;TZID=America/Santiago:20221012T170000
DTSTAMP:20260423T065154
CREATED:20221019T135833Z
LAST-MODIFIED:20221019T135836Z
UID:15285-1665561600-1665594000@www.hidrocentro.cl
SUMMARY:Ñipas – Coelemu – Trehuaco – Quirihue – Ninhue – San Nicolas- Portezuelo
DESCRIPTION:
URL:https://www.hidrocentro.cl/collin/despacho/nipas-coelemu-trehuaco-quirihue-ninhue-san-nicolas-portezuelo-29/
END:VEVENT
BEGIN:VEVENT
DTSTART;TZID=America/Santiago:20221013T080000
DTEND;TZID=America/Santiago:20221013T170000
DTSTAMP:20260423T065154
CREATED:20221019T135858Z
LAST-MODIFIED:20221019T135902Z
UID:15287-1665648000-1665680400@www.hidrocentro.cl
SUMMARY:Chillán
DESCRIPTION:
URL:https://www.hidrocentro.cl/collin/despacho/chillan-117/
END:VEVENT
BEGIN:VEVENT
DTSTART;TZID=America/Santiago:20221014T080000
DTEND;TZID=America/Santiago:20221014T170000
DTSTAMP:20260423T065154
CREATED:20221019T135931Z
LAST-MODIFIED:20221019T135936Z
UID:15289-1665734400-1665766800@www.hidrocentro.cl
SUMMARY:Pinto – Coihueco – Los Lleuques
DESCRIPTION:
URL:https://www.hidrocentro.cl/collin/despacho/pinto-coihueco-los-lleuques-30/
END:VEVENT
BEGIN:VEVENT
DTSTART;TZID=America/Santiago:20221017T080000
DTEND;TZID=America/Santiago:20221017T170000
DTSTAMP:20260423T065154
CREATED:20221019T140010Z
LAST-MODIFIED:20221019T140018Z
UID:15291-1665993600-1666026000@www.hidrocentro.cl
SUMMARY:San Carlos – San Fabian
DESCRIPTION:
URL:https://www.hidrocentro.cl/collin/despacho/san-carlos-san-fabian-29/
END:VEVENT
BEGIN:VEVENT
DTSTART;TZID=America/Santiago:20221018T080000
DTEND;TZID=America/Santiago:20221018T170000
DTSTAMP:20260423T065154
CREATED:20221019T140035Z
LAST-MODIFIED:20221019T140043Z
UID:15293-1666080000-1666112400@www.hidrocentro.cl
SUMMARY:Chillán
DESCRIPTION:
URL:https://www.hidrocentro.cl/collin/despacho/chillan-118/
END:VEVENT
BEGIN:VEVENT
DTSTART;TZID=America/Santiago:20221019T080000
DTEND;TZID=America/Santiago:20221019T170000
DTSTAMP:20260423T065154
CREATED:20221019T140111Z
LAST-MODIFIED:20221019T140114Z
UID:15295-1666166400-1666198800@www.hidrocentro.cl
SUMMARY:Pemuco – El Carmen – Pueblo Seco – San Ignacio – Bulnes – Quillon
DESCRIPTION:
URL:https://www.hidrocentro.cl/collin/despacho/pemuco-el-carmen-pueblo-seco-san-ignacio-bulnes-quillon-19/
END:VEVENT
BEGIN:VEVENT
DTSTART;TZID=America/Santiago:20221020T080000
DTEND;TZID=America/Santiago:20221020T170000
DTSTAMP:20260423T065154
CREATED:20221019T140139Z
LAST-MODIFIED:20221019T140144Z
UID:15297-1666252800-1666285200@www.hidrocentro.cl
SUMMARY:Chillán
DESCRIPTION:
URL:https://www.hidrocentro.cl/collin/despacho/chillan-119/
END:VEVENT
BEGIN:VEVENT
DTSTART;TZID=America/Santiago:20221021T080000
DTEND;TZID=America/Santiago:20221021T170000
DTSTAMP:20260423T065154
CREATED:20221019T140217Z
LAST-MODIFIED:20221019T140230Z
UID:15299-1666339200-1666371600@www.hidrocentro.cl
SUMMARY:Cobquecura
DESCRIPTION:
URL:https://www.hidrocentro.cl/collin/despacho/cobquecura-18/
END:VEVENT
BEGIN:VEVENT
DTSTART;TZID=America/Santiago:20221024T080000
DTEND;TZID=America/Santiago:20221024T170000
DTSTAMP:20260423T065154
CREATED:20221019T140442Z
LAST-MODIFIED:20221019T140504Z
UID:15301-1666598400-1666630800@www.hidrocentro.cl
SUMMARY:Parral – Catillo – Retiro – Cauquenes – Longaví
DESCRIPTION:
URL:https://www.hidrocentro.cl/collin/despacho/parral-catillo-retiro-cauquenes-longavi-31/
END:VEVENT
BEGIN:VEVENT
DTSTART;TZID=America/Santiago:20221025T080000
DTEND;TZID=America/Santiago:20221025T170000
DTSTAMP:20260423T065154
CREATED:20221019T140526Z
LAST-MODIFIED:20221019T140529Z
UID:15303-1666684800-1666717200@www.hidrocentro.cl
SUMMARY:Chillán
DESCRIPTION:
URL:https://www.hidrocentro.cl/collin/despacho/chillan-120/
END:VEVENT
BEGIN:VEVENT
DTSTART;TZID=America/Santiago:20221026T080000
DTEND;TZID=America/Santiago:20221026T170000
DTSTAMP:20260423T065154
CREATED:20221019T140617Z
LAST-MODIFIED:20221019T140636Z
UID:15305-1666771200-1666803600@www.hidrocentro.cl
SUMMARY:Ñipas – Coelemu – Trehuaco – Quirihue – Ninhue – San Nicolas- Portezuelo
DESCRIPTION:
URL:https://www.hidrocentro.cl/collin/despacho/nipas-coelemu-trehuaco-quirihue-ninhue-san-nicolas-portezuelo-30/
END:VEVENT
BEGIN:VEVENT
DTSTART;TZID=America/Santiago:20221027T080000
DTEND;TZID=America/Santiago:20221027T170000
DTSTAMP:20260423T065154
CREATED:20221019T140700Z
LAST-MODIFIED:20221019T140734Z
UID:15307-1666857600-1666890000@www.hidrocentro.cl
SUMMARY:Chillán
DESCRIPTION:
URL:https://www.hidrocentro.cl/collin/despacho/chillan-121/
END:VEVENT
BEGIN:VEVENT
DTSTART;TZID=America/Santiago:20221028T080000
DTEND;TZID=America/Santiago:20221028T170000
DTSTAMP:20260423T065154
CREATED:20221019T140814Z
LAST-MODIFIED:20221019T140835Z
UID:15309-1666944000-1666976400@www.hidrocentro.cl
SUMMARY:Pinto – Coihueco – Los Lleuques
DESCRIPTION:
URL:https://www.hidrocentro.cl/collin/despacho/pinto-coihueco-los-lleuques-31/
END:VEVENT
BEGIN:VEVENT
DTSTART;TZID=America/Santiago:20221031T080000
DTEND;TZID=America/Santiago:20221031T170000
DTSTAMP:20260423T065154
CREATED:20221019T140907Z
LAST-MODIFIED:20221019T140930Z
UID:15311-1667203200-1667235600@www.hidrocentro.cl
SUMMARY:San Carlos – San Fabian
DESCRIPTION:
URL:https://www.hidrocentro.cl/collin/despacho/san-carlos-san-fabian-30/
END:VEVENT
BEGIN:VEVENT
DTSTART;TZID=America/Santiago:20221101T080000
DTEND;TZID=America/Santiago:20221101T170000
DTSTAMP:20260423T065154
CREATED:20221019T140947Z
LAST-MODIFIED:20221019T141010Z
UID:15313-1667289600-1667322000@www.hidrocentro.cl
SUMMARY:Chillán
DESCRIPTION:
URL:https://www.hidrocentro.cl/collin/despacho/chillan-122/
END:VEVENT
BEGIN:VEVENT
DTSTART;TZID=America/Santiago:20221102T080000
DTEND;TZID=America/Santiago:20221102T170000
DTSTAMP:20260423T065154
CREATED:20221019T141138Z
LAST-MODIFIED:20221019T141147Z
UID:15315-1667376000-1667408400@www.hidrocentro.cl
SUMMARY:Pemuco – El Carmen – Pueblo Seco – San Ignacio – Bulnes – Quillon
DESCRIPTION:
URL:https://www.hidrocentro.cl/collin/despacho/pemuco-el-carmen-pueblo-seco-san-ignacio-bulnes-quillon-20/
END:VEVENT
BEGIN:VEVENT
DTSTART;TZID=America/Santiago:20221103T080000
DTEND;TZID=America/Santiago:20221103T170000
DTSTAMP:20260423T065154
CREATED:20221019T141211Z
LAST-MODIFIED:20221019T141213Z
UID:15317-1667462400-1667494800@www.hidrocentro.cl
SUMMARY:Chillán
DESCRIPTION:
URL:https://www.hidrocentro.cl/collin/despacho/chillan-123/
END:VEVENT
BEGIN:VEVENT
DTSTART;TZID=America/Santiago:20221104T080000
DTEND;TZID=America/Santiago:20221104T170000
DTSTAMP:20260423T065154
CREATED:20221019T141246Z
LAST-MODIFIED:20221019T141250Z
UID:15319-1667548800-1667581200@www.hidrocentro.cl
SUMMARY:Cobquecura
DESCRIPTION:
URL:https://www.hidrocentro.cl/collin/despacho/cobquecura-19/
END:VEVENT
END:VCALENDAR