BEGIN:VCALENDAR
VERSION:2.0
PRODID:-//Collín - hidrocentro - ECPv5.5.0.1//NONSGML v1.0//EN
CALSCALE:GREGORIAN
METHOD:PUBLISH
X-WR-CALNAME:Collín - hidrocentro
X-ORIGINAL-URL:https://www.hidrocentro.cl/collin
X-WR-CALDESC:Eventos para Collín - hidrocentro
BEGIN:VTIMEZONE
TZID:America/Santiago
BEGIN:STANDARD
TZOFFSETFROM:-0300
TZOFFSETTO:-0400
TZNAME:-04
DTSTART:20220403T030000
END:STANDARD
BEGIN:DAYLIGHT
TZOFFSETFROM:-0400
TZOFFSETTO:-0300
TZNAME:-03
DTSTART:20220904T040000
END:DAYLIGHT
END:VTIMEZONE
BEGIN:VEVENT
DTSTART;TZID=America/Santiago:20221031T080000
DTEND;TZID=America/Santiago:20221031T170000
DTSTAMP:20260423T051736
CREATED:20221019T140907Z
LAST-MODIFIED:20221019T140930Z
UID:15311-1667203200-1667235600@www.hidrocentro.cl
SUMMARY:San Carlos – San Fabian
DESCRIPTION:
URL:https://www.hidrocentro.cl/collin/despacho/san-carlos-san-fabian-30/
END:VEVENT
BEGIN:VEVENT
DTSTART;TZID=America/Santiago:20221101T080000
DTEND;TZID=America/Santiago:20221101T170000
DTSTAMP:20260423T051736
CREATED:20221019T140947Z
LAST-MODIFIED:20221019T141010Z
UID:15313-1667289600-1667322000@www.hidrocentro.cl
SUMMARY:Chillán
DESCRIPTION:
URL:https://www.hidrocentro.cl/collin/despacho/chillan-122/
END:VEVENT
BEGIN:VEVENT
DTSTART;TZID=America/Santiago:20221102T080000
DTEND;TZID=America/Santiago:20221102T170000
DTSTAMP:20260423T051736
CREATED:20221019T141138Z
LAST-MODIFIED:20221019T141147Z
UID:15315-1667376000-1667408400@www.hidrocentro.cl
SUMMARY:Pemuco – El Carmen – Pueblo Seco – San Ignacio – Bulnes – Quillon
DESCRIPTION:
URL:https://www.hidrocentro.cl/collin/despacho/pemuco-el-carmen-pueblo-seco-san-ignacio-bulnes-quillon-20/
END:VEVENT
BEGIN:VEVENT
DTSTART;TZID=America/Santiago:20221103T080000
DTEND;TZID=America/Santiago:20221103T170000
DTSTAMP:20260423T051736
CREATED:20221019T141211Z
LAST-MODIFIED:20221019T141213Z
UID:15317-1667462400-1667494800@www.hidrocentro.cl
SUMMARY:Chillán
DESCRIPTION:
URL:https://www.hidrocentro.cl/collin/despacho/chillan-123/
END:VEVENT
BEGIN:VEVENT
DTSTART;TZID=America/Santiago:20221104T080000
DTEND;TZID=America/Santiago:20221104T170000
DTSTAMP:20260423T051736
CREATED:20221019T141246Z
LAST-MODIFIED:20221019T141250Z
UID:15319-1667548800-1667581200@www.hidrocentro.cl
SUMMARY:Cobquecura
DESCRIPTION:
URL:https://www.hidrocentro.cl/collin/despacho/cobquecura-19/
END:VEVENT
BEGIN:VEVENT
DTSTART;TZID=America/Santiago:20221107T080000
DTEND;TZID=America/Santiago:20221107T170000
DTSTAMP:20260423T051736
CREATED:20221019T141344Z
LAST-MODIFIED:20221019T141354Z
UID:15321-1667808000-1667840400@www.hidrocentro.cl
SUMMARY:Parral – Catillo – Retiro – Cauquenes – Longaví
DESCRIPTION:
URL:https://www.hidrocentro.cl/collin/despacho/parral-catillo-retiro-cauquenes-longavi-32/
END:VEVENT
BEGIN:VEVENT
DTSTART;TZID=America/Santiago:20221108T080000
DTEND;TZID=America/Santiago:20221108T170000
DTSTAMP:20260423T051736
CREATED:20221019T141447Z
LAST-MODIFIED:20221019T141451Z
UID:15323-1667894400-1667926800@www.hidrocentro.cl
SUMMARY:Chillán
DESCRIPTION:
URL:https://www.hidrocentro.cl/collin/despacho/chillan-124/
END:VEVENT
END:VCALENDAR