BEGIN:VCALENDAR
VERSION:2.0
PRODID:-//Collín - hidrocentro - ECPv5.5.0.1//NONSGML v1.0//EN
CALSCALE:GREGORIAN
METHOD:PUBLISH
X-WR-CALNAME:Collín - hidrocentro
X-ORIGINAL-URL:https://www.hidrocentro.cl/collin
X-WR-CALDESC:Eventos para Collín - hidrocentro
BEGIN:VTIMEZONE
TZID:America/Santiago
BEGIN:STANDARD
TZOFFSETFROM:-0300
TZOFFSETTO:-0400
TZNAME:-04
DTSTART:20230402T030000
END:STANDARD
BEGIN:DAYLIGHT
TZOFFSETFROM:-0400
TZOFFSETTO:-0300
TZNAME:-03
DTSTART:20230903T040000
END:DAYLIGHT
END:VTIMEZONE
BEGIN:VEVENT
DTSTART;TZID=America/Santiago:20231011T080000
DTEND;TZID=America/Santiago:20231011T170000
DTSTAMP:20260422T140524
CREATED:20231011T165405Z
LAST-MODIFIED:20231011T165405Z
UID:16327-1697011200-1697043600@www.hidrocentro.cl
SUMMARY:ÑIPAS - COELEMU - TREHUACO - GUARILIHUE - NINHUE - SAN NICOLÁS - PORTEZUELO
DESCRIPTION:
URL:https://www.hidrocentro.cl/collin/despacho/nipas-coelemu-trehuaco-guarilihue-ninhue-san-nicolas-portezuelo/
END:VEVENT
BEGIN:VEVENT
DTSTART;TZID=America/Santiago:20231012T080000
DTEND;TZID=America/Santiago:20231012T170000
DTSTAMP:20260422T140524
CREATED:20231011T163927Z
LAST-MODIFIED:20231011T163927Z
UID:16308-1697097600-1697130000@www.hidrocentro.cl
SUMMARY:CHILLÁN
DESCRIPTION:
URL:https://www.hidrocentro.cl/collin/despacho/chillan-125/
END:VEVENT
BEGIN:VEVENT
DTSTART;TZID=America/Santiago:20231013T080000
DTEND;TZID=America/Santiago:20231013T170000
DTSTAMP:20260422T140524
CREATED:20231011T172140Z
LAST-MODIFIED:20231011T172140Z
UID:16357-1697184000-1697216400@www.hidrocentro.cl
SUMMARY:COIHUECO - PINTO - LOS LLEUQUES
DESCRIPTION:
URL:https://www.hidrocentro.cl/collin/despacho/coihueco-pinto-los-lleuques/
END:VEVENT
BEGIN:VEVENT
DTSTART;TZID=America/Santiago:20231016T080000
DTEND;TZID=America/Santiago:20231016T170000
DTSTAMP:20260422T140524
CREATED:20231011T164303Z
LAST-MODIFIED:20231011T164303Z
UID:16312-1697443200-1697475600@www.hidrocentro.cl
SUMMARY:SAN CARLOS - SAN FABIÁN
DESCRIPTION:
URL:https://www.hidrocentro.cl/collin/despacho/san-carlos-san-fabian-31/
END:VEVENT
BEGIN:VEVENT
DTSTART;TZID=America/Santiago:20231017T080000
DTEND;TZID=America/Santiago:20231017T170000
DTSTAMP:20260422T140524
CREATED:20231011T172332Z
LAST-MODIFIED:20231011T172332Z
UID:16367-1697529600-1697562000@www.hidrocentro.cl
SUMMARY:CHILLÁN
DESCRIPTION:
URL:https://www.hidrocentro.cl/collin/despacho/chillan-126/
END:VEVENT
BEGIN:VEVENT
DTSTART;TZID=America/Santiago:20231018T080000
DTEND;TZID=America/Santiago:20231018T170000
DTSTAMP:20260422T140524
CREATED:20231011T165058Z
LAST-MODIFIED:20231011T165058Z
UID:16315-1697616000-1697648400@www.hidrocentro.cl
SUMMARY:QUILLÓN - BULNES - SAN IGNACIO - PUEBLO SECO - EL CARMEN - PEMUCO
DESCRIPTION:
URL:https://www.hidrocentro.cl/collin/despacho/quillon-bulnes-san-ignacio-pueblo-seco-el-carmen-pemuco/
END:VEVENT
BEGIN:VEVENT
DTSTART;TZID=America/Santiago:20231019T080000
DTEND;TZID=America/Santiago:20231019T170000
DTSTAMP:20260422T140524
CREATED:20231011T173236Z
LAST-MODIFIED:20231011T173236Z
UID:16399-1697702400-1697734800@www.hidrocentro.cl
SUMMARY:CHILLÁN
DESCRIPTION:
URL:https://www.hidrocentro.cl/collin/despacho/chillan-137/
END:VEVENT
BEGIN:VEVENT
DTSTART;TZID=America/Santiago:20231020T080000
DTEND;TZID=America/Santiago:20231020T170000
DTSTAMP:20260422T140524
CREATED:20231011T164152Z
LAST-MODIFIED:20231011T165021Z
UID:16310-1697788800-1697821200@www.hidrocentro.cl
SUMMARY:COBQUECURA
DESCRIPTION:
URL:https://www.hidrocentro.cl/collin/despacho/cobquecura-20/
END:VEVENT
BEGIN:VEVENT
DTSTART;TZID=America/Santiago:20231023T080000
DTEND;TZID=America/Santiago:20231023T170000
DTSTAMP:20260422T140524
CREATED:20231011T171534Z
LAST-MODIFIED:20231011T171534Z
UID:16347-1698048000-1698080400@www.hidrocentro.cl
SUMMARY:PARRAL - SAN GREGORIO - RETIRO - CATILLO - CAUQUENES - LONGAVÍ
DESCRIPTION:
URL:https://www.hidrocentro.cl/collin/despacho/parral-san-gregorio-retiro-catillo-cauquenes-longavi/
END:VEVENT
BEGIN:VEVENT
DTSTART;TZID=America/Santiago:20231024T080000
DTEND;TZID=America/Santiago:20231024T170000
DTSTAMP:20260422T140524
CREATED:20231011T172339Z
LAST-MODIFIED:20231011T172339Z
UID:16369-1698134400-1698166800@www.hidrocentro.cl
SUMMARY:CHILLÁN
DESCRIPTION:
URL:https://www.hidrocentro.cl/collin/despacho/chillan-127/
END:VEVENT
BEGIN:VEVENT
DTSTART;TZID=America/Santiago:20231025T080000
DTEND;TZID=America/Santiago:20231025T170000
DTSTAMP:20260422T140524
CREATED:20231011T165412Z
LAST-MODIFIED:20231011T165412Z
UID:16329-1698220800-1698253200@www.hidrocentro.cl
SUMMARY:ÑIPAS - COELEMU - TREHUACO - GUARILIHUE - NINHUE - SAN NICOLÁS - PORTEZUELO
DESCRIPTION:
URL:https://www.hidrocentro.cl/collin/despacho/nipas-coelemu-trehuaco-guarilihue-ninhue-san-nicolas-portezuelo-2/
END:VEVENT
BEGIN:VEVENT
DTSTART;TZID=America/Santiago:20231026T080000
DTEND;TZID=America/Santiago:20231026T170000
DTSTAMP:20260422T140524
CREATED:20231011T173243Z
LAST-MODIFIED:20231011T173243Z
UID:16401-1698307200-1698339600@www.hidrocentro.cl
SUMMARY:CHILLÁN
DESCRIPTION:
URL:https://www.hidrocentro.cl/collin/despacho/chillan-138/
END:VEVENT
BEGIN:VEVENT
DTSTART;TZID=America/Santiago:20231027T080000
DTEND;TZID=America/Santiago:20231027T170000
DTSTAMP:20260422T140524
CREATED:20231011T172151Z
LAST-MODIFIED:20231011T172151Z
UID:16359-1698393600-1698426000@www.hidrocentro.cl
SUMMARY:COIHUECO - PINTO - LOS LLEUQUES
DESCRIPTION:
URL:https://www.hidrocentro.cl/collin/despacho/coihueco-pinto-los-lleuques-2/
END:VEVENT
BEGIN:VEVENT
DTSTART;TZID=America/Santiago:20231030T080000
DTEND;TZID=America/Santiago:20231030T170000
DTSTAMP:20260422T140524
CREATED:20231011T170832Z
LAST-MODIFIED:20231011T170832Z
UID:16337-1698652800-1698685200@www.hidrocentro.cl
SUMMARY:SAN CARLOS - SAN FABIÁN
DESCRIPTION:
URL:https://www.hidrocentro.cl/collin/despacho/san-carlos-san-fabian-32/
END:VEVENT
BEGIN:VEVENT
DTSTART;TZID=America/Santiago:20231031T080000
DTEND;TZID=America/Santiago:20231031T170000
DTSTAMP:20260422T140524
CREATED:20231011T172349Z
LAST-MODIFIED:20231011T172349Z
UID:16371-1698739200-1698771600@www.hidrocentro.cl
SUMMARY:CHILLÁN
DESCRIPTION:
URL:https://www.hidrocentro.cl/collin/despacho/chillan-128/
END:VEVENT
BEGIN:VEVENT
DTSTART;TZID=America/Santiago:20231102T080000
DTEND;TZID=America/Santiago:20231102T170000
DTSTAMP:20260422T140524
CREATED:20231011T173401Z
LAST-MODIFIED:20231011T173401Z
UID:16403-1698912000-1698944400@www.hidrocentro.cl
SUMMARY:CHILLÁN
DESCRIPTION:
URL:https://www.hidrocentro.cl/collin/despacho/chillan-139/
END:VEVENT
BEGIN:VEVENT
DTSTART;TZID=America/Santiago:20231103T080000
DTEND;TZID=America/Santiago:20231103T170000
DTSTAMP:20260422T140524
CREATED:20231011T173145Z
LAST-MODIFIED:20231011T173145Z
UID:16389-1698998400-1699030800@www.hidrocentro.cl
SUMMARY:COBQUECURA
DESCRIPTION:
URL:https://www.hidrocentro.cl/collin/despacho/cobquecura-21/
END:VEVENT
END:VCALENDAR