BEGIN:VCALENDAR
VERSION:2.0
PRODID:-//Paicaví - hidrocentro - ECPv5.5.0.1//NONSGML v1.0//EN
CALSCALE:GREGORIAN
METHOD:PUBLISH
X-WR-CALNAME:Paicaví - hidrocentro
X-ORIGINAL-URL:https://www.hidrocentro.cl/paicavi
X-WR-CALDESC:Eventos para Paicaví - hidrocentro
BEGIN:VTIMEZONE
TZID:America/Santiago
BEGIN:STANDARD
TZOFFSETFROM:-0300
TZOFFSETTO:-0400
TZNAME:-04
DTSTART:20210404T030000
END:STANDARD
BEGIN:DAYLIGHT
TZOFFSETFROM:-0400
TZOFFSETTO:-0300
TZNAME:-03
DTSTART:20210905T040000
END:DAYLIGHT
END:VTIMEZONE
BEGIN:VEVENT
DTSTART;VALUE=DATE:20211230
DTEND;VALUE=DATE:20211231
DTSTAMP:20260421T211532
CREATED:20211230T152658Z
LAST-MODIFIED:20211207T194402Z
UID:13547-1640822400-1640908799@www.hidrocentro.cl
SUMMARY:Concepción (radio Urbano)
DESCRIPTION:
URL:https://www.hidrocentro.cl/paicavi/despacho/concepcion-radio-urbano-25/
END:VEVENT
END:VCALENDAR