BEGIN:VCALENDAR
VERSION:2.0
PRODID:-//Paicaví - hidrocentro - ECPv5.5.0.1//NONSGML v1.0//EN
CALSCALE:GREGORIAN
METHOD:PUBLISH
X-WR-CALNAME:Paicaví - hidrocentro
X-ORIGINAL-URL:https://www.hidrocentro.cl/paicavi
X-WR-CALDESC:Eventos para Paicaví - hidrocentro
BEGIN:VTIMEZONE
TZID:America/Santiago
BEGIN:STANDARD
TZOFFSETFROM:-0300
TZOFFSETTO:-0400
TZNAME:-04
DTSTART:20230402T030000
END:STANDARD
BEGIN:DAYLIGHT
TZOFFSETFROM:-0400
TZOFFSETTO:-0300
TZNAME:-03
DTSTART:20230903T040000
END:DAYLIGHT
END:VTIMEZONE
BEGIN:VEVENT
DTSTART;VALUE=DATE:20231003
DTEND;VALUE=DATE:20231004
DTSTAMP:20260421T171340
CREATED:20231002T144529Z
LAST-MODIFIED:20231002T144626Z
UID:16321-1696291200-1696377599@www.hidrocentro.cl
SUMMARY:Tomé - Dichato
DESCRIPTION:Despachos en el sector
URL:https://www.hidrocentro.cl/paicavi/despacho/tome-dichato/
END:VEVENT
END:VCALENDAR