BEGIN:VCALENDAR
VERSION:2.0
PRODID:-//Paicaví - hidrocentro - ECPv5.5.0.1//NONSGML v1.0//EN
CALSCALE:GREGORIAN
METHOD:PUBLISH
X-WR-CALNAME:Paicaví - hidrocentro
X-ORIGINAL-URL:https://www.hidrocentro.cl/paicavi
X-WR-CALDESC:Eventos para Paicaví - hidrocentro
BEGIN:VTIMEZONE
TZID:America/Santiago
BEGIN:STANDARD
TZOFFSETFROM:-0300
TZOFFSETTO:-0400
TZNAME:-04
DTSTART:20210404T030000
END:STANDARD
BEGIN:DAYLIGHT
TZOFFSETFROM:-0400
TZOFFSETTO:-0300
TZNAME:-03
DTSTART:20210905T040000
END:DAYLIGHT
END:VTIMEZONE
BEGIN:VEVENT
DTSTART;VALUE=DATE:20211221
DTEND;VALUE=DATE:20211222
DTSTAMP:20260422T070120
CREATED:20211221T152504Z
LAST-MODIFIED:20211207T193756Z
UID:13539-1640044800-1640131199@www.hidrocentro.cl
SUMMARY:Tomé – Lirquén – Penco – Dichato
DESCRIPTION:
URL:https://www.hidrocentro.cl/paicavi/despacho/tome-lirquen-penco-dichato-13/
END:VEVENT
END:VCALENDAR