BEGIN:VCALENDAR
VERSION:2.0
PRODID:-//Paicaví - hidrocentro - ECPv5.5.0.1//NONSGML v1.0//EN
CALSCALE:GREGORIAN
METHOD:PUBLISH
X-WR-CALNAME:Paicaví - hidrocentro
X-ORIGINAL-URL:https://www.hidrocentro.cl/paicavi
X-WR-CALDESC:Eventos para Paicaví - hidrocentro
BEGIN:VTIMEZONE
TZID:America/Santiago
BEGIN:STANDARD
TZOFFSETFROM:-0300
TZOFFSETTO:-0400
TZNAME:-04
DTSTART:20210404T030000
END:STANDARD
BEGIN:DAYLIGHT
TZOFFSETFROM:-0400
TZOFFSETTO:-0300
TZNAME:-03
DTSTART:20210905T040000
END:DAYLIGHT
END:VTIMEZONE
BEGIN:VEVENT
DTSTART;VALUE=DATE:20211208
DTEND;VALUE=DATE:20211209
DTSTAMP:20260422T183505
CREATED:20211208T152523Z
LAST-MODIFIED:20211207T170754Z
UID:13541-1638921600-1639007999@www.hidrocentro.cl
SUMMARY:Tomé – Lirquén – Penco – Dichato
DESCRIPTION:
URL:https://www.hidrocentro.cl/paicavi/despacho/tome-lirquen-penco-dichato-14/
END:VEVENT
END:VCALENDAR