BEGIN:VCALENDAR
VERSION:2.0
PRODID:-//Paicaví - hidrocentro - ECPv5.5.0.1//NONSGML v1.0//EN
CALSCALE:GREGORIAN
METHOD:PUBLISH
X-WR-CALNAME:Paicaví - hidrocentro
X-ORIGINAL-URL:https://www.hidrocentro.cl/paicavi
X-WR-CALDESC:Eventos para Paicaví - hidrocentro
BEGIN:VTIMEZONE
TZID:America/Santiago
BEGIN:STANDARD
TZOFFSETFROM:-0300
TZOFFSETTO:-0400
TZNAME:-04
DTSTART:20230402T030000
END:STANDARD
BEGIN:DAYLIGHT
TZOFFSETFROM:-0400
TZOFFSETTO:-0300
TZNAME:-03
DTSTART:20230903T040000
END:DAYLIGHT
END:VTIMEZONE
BEGIN:VEVENT
DTSTART;VALUE=DATE:20231127
DTEND;VALUE=DATE:20231128
DTSTAMP:20260420T085137
CREATED:20231002T160334Z
LAST-MODIFIED:20231002T160334Z
UID:16399-1701043200-1701129599@www.hidrocentro.cl
SUMMARY:Hualpen
DESCRIPTION:Despacho en sector y trayecto
URL:https://www.hidrocentro.cl/paicavi/despacho/hualpen-9/
END:VEVENT
BEGIN:VEVENT
DTSTART;VALUE=DATE:20231128
DTEND;VALUE=DATE:20231129
DTSTAMP:20260420T085137
CREATED:20231002T160410Z
LAST-MODIFIED:20231002T160410Z
UID:16401-1701129600-1701215999@www.hidrocentro.cl
SUMMARY:Tomé - Dichato
DESCRIPTION:Despacho en sector y trayecto
URL:https://www.hidrocentro.cl/paicavi/despacho/tome-dichato-9/
END:VEVENT
BEGIN:VEVENT
DTSTART;VALUE=DATE:20231129
DTEND;VALUE=DATE:20231130
DTSTAMP:20260420T085137
CREATED:20231002T160427Z
LAST-MODIFIED:20231002T160427Z
UID:16403-1701216000-1701302399@www.hidrocentro.cl
SUMMARY:Penco - Lirquén
DESCRIPTION:Despacho en sector y trayecto
URL:https://www.hidrocentro.cl/paicavi/despacho/penco-lirquen-9/
END:VEVENT
BEGIN:VEVENT
DTSTART;VALUE=DATE:20231130
DTEND;VALUE=DATE:20231201
DTSTAMP:20260420T085137
CREATED:20231002T160441Z
LAST-MODIFIED:20231002T160441Z
UID:16405-1701302400-1701388799@www.hidrocentro.cl
SUMMARY:Concepción
DESCRIPTION:Despacho en sector y trayecto
URL:https://www.hidrocentro.cl/paicavi/despacho/concepcion-9/
END:VEVENT
BEGIN:VEVENT
DTSTART;VALUE=DATE:20231201
DTEND;VALUE=DATE:20231202
DTSTAMP:20260420T085137
CREATED:20231002T160500Z
LAST-MODIFIED:20231002T160500Z
UID:16407-1701388800-1701475199@www.hidrocentro.cl
SUMMARY:Hualpén - Talcahuano
DESCRIPTION:Despacho en sector y trayecto
URL:https://www.hidrocentro.cl/paicavi/despacho/hualpen-talcahuano-9/
END:VEVENT
BEGIN:VEVENT
DTSTART;VALUE=DATE:20231204
DTEND;VALUE=DATE:20231205
DTSTAMP:20260420T085137
CREATED:20231002T160610Z
LAST-MODIFIED:20231002T160610Z
UID:16409-1701648000-1701734399@www.hidrocentro.cl
SUMMARY:Hualpen
DESCRIPTION:Despacho en sector y trayecto
URL:https://www.hidrocentro.cl/paicavi/despacho/hualpen-10/
END:VEVENT
BEGIN:VEVENT
DTSTART;VALUE=DATE:20231205
DTEND;VALUE=DATE:20231206
DTSTAMP:20260420T085137
CREATED:20231002T160624Z
LAST-MODIFIED:20231002T160624Z
UID:16411-1701734400-1701820799@www.hidrocentro.cl
SUMMARY:Tomé - Dichato
DESCRIPTION:Despacho en sector y trayecto
URL:https://www.hidrocentro.cl/paicavi/despacho/tome-dichato-10/
END:VEVENT
BEGIN:VEVENT
DTSTART;VALUE=DATE:20231206
DTEND;VALUE=DATE:20231207
DTSTAMP:20260420T085137
CREATED:20231002T162828Z
LAST-MODIFIED:20231002T162828Z
UID:16413-1701820800-1701907199@www.hidrocentro.cl
SUMMARY:Penco - Lirquén
DESCRIPTION:Despacho en sector y trayecto
URL:https://www.hidrocentro.cl/paicavi/despacho/penco-lirquen-10/
END:VEVENT
BEGIN:VEVENT
DTSTART;VALUE=DATE:20231207
DTEND;VALUE=DATE:20231208
DTSTAMP:20260420T085137
CREATED:20231002T163052Z
LAST-MODIFIED:20231002T163052Z
UID:16415-1701907200-1701993599@www.hidrocentro.cl
SUMMARY:Concepción
DESCRIPTION:Despacho en sector
URL:https://www.hidrocentro.cl/paicavi/despacho/concepcion-10/
END:VEVENT
BEGIN:VEVENT
DTSTART;VALUE=DATE:20231211
DTEND;VALUE=DATE:20231212
DTSTAMP:20260420T085137
CREATED:20231002T163121Z
LAST-MODIFIED:20231002T163121Z
UID:16417-1702252800-1702339199@www.hidrocentro.cl
SUMMARY:Hualpén
DESCRIPTION:Despacho en sector y trayecto
URL:https://www.hidrocentro.cl/paicavi/despacho/hualpen-11/
END:VEVENT
BEGIN:VEVENT
DTSTART;VALUE=DATE:20231212
DTEND;VALUE=DATE:20231213
DTSTAMP:20260420T085137
CREATED:20231002T163143Z
LAST-MODIFIED:20231002T163143Z
UID:16419-1702339200-1702425599@www.hidrocentro.cl
SUMMARY:Tomé - Dichato
DESCRIPTION:Despacho en sector y trayecto
URL:https://www.hidrocentro.cl/paicavi/despacho/tome-dichato-11/
END:VEVENT
BEGIN:VEVENT
DTSTART;VALUE=DATE:20231213
DTEND;VALUE=DATE:20231214
DTSTAMP:20260420T085137
CREATED:20231002T163159Z
LAST-MODIFIED:20231002T163159Z
UID:16421-1702425600-1702511999@www.hidrocentro.cl
SUMMARY:Penco - Lirquén
DESCRIPTION:Despacho en sector y trayecto
URL:https://www.hidrocentro.cl/paicavi/despacho/penco-lirquen-11/
END:VEVENT
BEGIN:VEVENT
DTSTART;VALUE=DATE:20231214
DTEND;VALUE=DATE:20231215
DTSTAMP:20260420T085137
CREATED:20231002T163214Z
LAST-MODIFIED:20231002T163214Z
UID:16423-1702512000-1702598399@www.hidrocentro.cl
SUMMARY:Concepción
DESCRIPTION:Despacho en sector
URL:https://www.hidrocentro.cl/paicavi/despacho/concepcion-11/
END:VEVENT
BEGIN:VEVENT
DTSTART;VALUE=DATE:20231215
DTEND;VALUE=DATE:20231216
DTSTAMP:20260420T085137
CREATED:20231002T163233Z
LAST-MODIFIED:20231002T163233Z
UID:16425-1702598400-1702684799@www.hidrocentro.cl
SUMMARY:Hualpén - Talcahuano
DESCRIPTION:Despacho en sector y trayecto
URL:https://www.hidrocentro.cl/paicavi/despacho/hualpen-talcahuano-10/
END:VEVENT
BEGIN:VEVENT
DTSTART;VALUE=DATE:20231218
DTEND;VALUE=DATE:20231219
DTSTAMP:20260420T085137
CREATED:20231002T163338Z
LAST-MODIFIED:20231002T163338Z
UID:16427-1702857600-1702943999@www.hidrocentro.cl
SUMMARY:Hualpén
DESCRIPTION:Despacho en sector y trayecto
URL:https://www.hidrocentro.cl/paicavi/despacho/hualpen-12/
END:VEVENT
BEGIN:VEVENT
DTSTART;VALUE=DATE:20231219
DTEND;VALUE=DATE:20231220
DTSTAMP:20260420T085137
CREATED:20231002T163354Z
LAST-MODIFIED:20231002T163354Z
UID:16429-1702944000-1703030399@www.hidrocentro.cl
SUMMARY:Tomé - Dichato
DESCRIPTION:Despacho en sector y trayecto
URL:https://www.hidrocentro.cl/paicavi/despacho/tome-dichato-12/
END:VEVENT
BEGIN:VEVENT
DTSTART;VALUE=DATE:20231220
DTEND;VALUE=DATE:20231221
DTSTAMP:20260420T085137
CREATED:20231002T163412Z
LAST-MODIFIED:20231002T163412Z
UID:16431-1703030400-1703116799@www.hidrocentro.cl
SUMMARY:Penco - Lirquén
DESCRIPTION:Despacho en sector y trayecto
URL:https://www.hidrocentro.cl/paicavi/despacho/penco-lirquen-12/
END:VEVENT
BEGIN:VEVENT
DTSTART;VALUE=DATE:20231221
DTEND;VALUE=DATE:20231222
DTSTAMP:20260420T085137
CREATED:20231002T163428Z
LAST-MODIFIED:20231002T163428Z
UID:16433-1703116800-1703203199@www.hidrocentro.cl
SUMMARY:Concepción
DESCRIPTION:Despacho en sector
URL:https://www.hidrocentro.cl/paicavi/despacho/concepcion-12/
END:VEVENT
BEGIN:VEVENT
DTSTART;VALUE=DATE:20231222
DTEND;VALUE=DATE:20231223
DTSTAMP:20260420T085137
CREATED:20231002T163445Z
LAST-MODIFIED:20231002T163445Z
UID:16435-1703203200-1703289599@www.hidrocentro.cl
SUMMARY:Hualpén - Talcahuano
DESCRIPTION:Despacho en sector y trayecto
URL:https://www.hidrocentro.cl/paicavi/despacho/hualpen-talcahuano-11/
END:VEVENT
BEGIN:VEVENT
DTSTART;VALUE=DATE:20231226
DTEND;VALUE=DATE:20231227
DTSTAMP:20260420T085137
CREATED:20231002T163504Z
LAST-MODIFIED:20231002T163504Z
UID:16437-1703548800-1703635199@www.hidrocentro.cl
SUMMARY:Tomé - Dichato
DESCRIPTION:Despacho en sector y trayecto
URL:https://www.hidrocentro.cl/paicavi/despacho/tome-dichato-13/
END:VEVENT
BEGIN:VEVENT
DTSTART;VALUE=DATE:20231227
DTEND;VALUE=DATE:20231228
DTSTAMP:20260420T085137
CREATED:20231002T163518Z
LAST-MODIFIED:20231002T163518Z
UID:16439-1703635200-1703721599@www.hidrocentro.cl
SUMMARY:Penco - Lirquén
DESCRIPTION:Despacho en sector y trayecto
URL:https://www.hidrocentro.cl/paicavi/despacho/penco-lirquen-13/
END:VEVENT
BEGIN:VEVENT
DTSTART;VALUE=DATE:20231228
DTEND;VALUE=DATE:20231229
DTSTAMP:20260420T085137
CREATED:20231002T163548Z
LAST-MODIFIED:20231002T163548Z
UID:16441-1703721600-1703807999@www.hidrocentro.cl
SUMMARY:Concepción
DESCRIPTION:Despacho en sector
URL:https://www.hidrocentro.cl/paicavi/despacho/concepcion-13/
END:VEVENT
BEGIN:VEVENT
DTSTART;VALUE=DATE:20231229
DTEND;VALUE=DATE:20231230
DTSTAMP:20260420T085137
CREATED:20231002T163609Z
LAST-MODIFIED:20231002T163609Z
UID:16443-1703808000-1703894399@www.hidrocentro.cl
SUMMARY:Hualpén - Talcahuano
DESCRIPTION:Despacho en sector y trayecto
URL:https://www.hidrocentro.cl/paicavi/despacho/hualpen-talcahuano-12/
END:VEVENT
END:VCALENDAR